BEGIN:VCALENDAR
VERSION:2.0
PRODID:-//Bark &amp; Brew - ECPv6.15.20//NONSGML v1.0//EN
CALSCALE:GREGORIAN
METHOD:PUBLISH
X-WR-CALNAME:Bark &amp; Brew
X-ORIGINAL-URL:https://barknbrewwi.com
X-WR-CALDESC:Events for Bark &amp; Brew
REFRESH-INTERVAL;VALUE=DURATION:PT1H
X-Robots-Tag:noindex
X-PUBLISHED-TTL:PT1H
BEGIN:VTIMEZONE
TZID:America/Chicago
BEGIN:DAYLIGHT
TZOFFSETFROM:-0600
TZOFFSETTO:-0500
TZNAME:CDT
DTSTART:20220313T080000
END:DAYLIGHT
BEGIN:STANDARD
TZOFFSETFROM:-0500
TZOFFSETTO:-0600
TZNAME:CST
DTSTART:20221106T070000
END:STANDARD
BEGIN:DAYLIGHT
TZOFFSETFROM:-0600
TZOFFSETTO:-0500
TZNAME:CDT
DTSTART:20230312T080000
END:DAYLIGHT
BEGIN:STANDARD
TZOFFSETFROM:-0500
TZOFFSETTO:-0600
TZNAME:CST
DTSTART:20231105T070000
END:STANDARD
BEGIN:DAYLIGHT
TZOFFSETFROM:-0600
TZOFFSETTO:-0500
TZNAME:CDT
DTSTART:20240310T080000
END:DAYLIGHT
BEGIN:STANDARD
TZOFFSETFROM:-0500
TZOFFSETTO:-0600
TZNAME:CST
DTSTART:20241103T070000
END:STANDARD
END:VTIMEZONE
BEGIN:VEVENT
DTSTART;TZID=America/Chicago:20230918T160000
DTEND;TZID=America/Chicago:20230918T210000
DTSTAMP:20260423T180616
CREATED:20230905T205425Z
LAST-MODIFIED:20230905T205425Z
UID:4937-1695052800-1695070800@barknbrewwi.com
SUMMARY:Small Dog Night
DESCRIPTION:Come enjoys some delicious drinks and watch your small dog play with other small dogs!  Small dogs only\, please.
URL:https://barknbrewwi.com/event/small-dog-night-13/
ORGANIZER;CN="Bark & Brew":MAILTO:tara@barknbrewwi.com
END:VEVENT
END:VCALENDAR