BEGIN:VCALENDAR
VERSION:2.0
PRODID:-//Bark &amp; Brew - ECPv6.15.20//NONSGML v1.0//EN
CALSCALE:GREGORIAN
METHOD:PUBLISH
X-WR-CALNAME:Bark &amp; Brew
X-ORIGINAL-URL:https://barknbrewwi.com
X-WR-CALDESC:Events for Bark &amp; Brew
REFRESH-INTERVAL;VALUE=DURATION:PT1H
X-Robots-Tag:noindex
X-PUBLISHED-TTL:PT1H
BEGIN:VTIMEZONE
TZID:America/Chicago
BEGIN:DAYLIGHT
TZOFFSETFROM:-0600
TZOFFSETTO:-0500
TZNAME:CDT
DTSTART:20230312T080000
END:DAYLIGHT
BEGIN:STANDARD
TZOFFSETFROM:-0500
TZOFFSETTO:-0600
TZNAME:CST
DTSTART:20231105T070000
END:STANDARD
BEGIN:DAYLIGHT
TZOFFSETFROM:-0600
TZOFFSETTO:-0500
TZNAME:CDT
DTSTART:20240310T080000
END:DAYLIGHT
BEGIN:STANDARD
TZOFFSETFROM:-0500
TZOFFSETTO:-0600
TZNAME:CST
DTSTART:20241103T070000
END:STANDARD
BEGIN:DAYLIGHT
TZOFFSETFROM:-0600
TZOFFSETTO:-0500
TZNAME:CDT
DTSTART:20250309T080000
END:DAYLIGHT
BEGIN:STANDARD
TZOFFSETFROM:-0500
TZOFFSETTO:-0600
TZNAME:CST
DTSTART:20251102T070000
END:STANDARD
END:VTIMEZONE
BEGIN:VEVENT
DTSTART;TZID=America/Chicago:20240406T110000
DTEND;TZID=America/Chicago:20240406T230000
DTSTAMP:20260422T140535
CREATED:20240401T141053Z
LAST-MODIFIED:20240401T141053Z
UID:5065-1712401200-1712444400@barknbrewwi.com
SUMMARY:Anniversary Pawty
DESCRIPTION:Celebrate our 1-year anniversary with us!!  Open at 11am with the Kickin’ Ash BBQ Food Truck from 3-7pm.  Dogs\, Drinks\, Dinner & FUN 🙂
URL:https://barknbrewwi.com/event/anniversary-pawty/
LOCATION:Bark & Brew\, 2514 Glendale Ave\, Green Bay\, WI\, 54313\, United States
ORGANIZER;CN="Bark & Brew":MAILTO:tara@barknbrewwi.com
END:VEVENT
BEGIN:VEVENT
DTSTART;TZID=America/Chicago:20240406T150000
DTEND;TZID=America/Chicago:20240406T190000
DTSTAMP:20260422T140535
CREATED:20240401T141151Z
LAST-MODIFIED:20240401T141151Z
UID:5067-1712415600-1712430000@barknbrewwi.com
SUMMARY:Kickin' Ash BBQ Food Truck
DESCRIPTION:Dogs\, Drinks & Dinner!!  Food truck onsite 3-7pm.
URL:https://barknbrewwi.com/event/kickin-ash-bbq-food-truck/
LOCATION:Bark & Brew\, 2514 Glendale Ave\, Green Bay\, WI\, 54313\, United States
ORGANIZER;CN="Bark & Brew":MAILTO:tara@barknbrewwi.com
END:VEVENT
END:VCALENDAR