BEGIN:VCALENDAR
VERSION:2.0
PRODID:-//Bark &amp; Brew - ECPv6.15.20//NONSGML v1.0//EN
CALSCALE:GREGORIAN
METHOD:PUBLISH
X-ORIGINAL-URL:https://barknbrewwi.com
X-WR-CALDESC:Events for Bark &amp; Brew
REFRESH-INTERVAL;VALUE=DURATION:PT1H
X-Robots-Tag:noindex
X-PUBLISHED-TTL:PT1H
BEGIN:VTIMEZONE
TZID:America/Chicago
BEGIN:DAYLIGHT
TZOFFSETFROM:-0600
TZOFFSETTO:-0500
TZNAME:CDT
DTSTART:20230312T080000
END:DAYLIGHT
BEGIN:STANDARD
TZOFFSETFROM:-0500
TZOFFSETTO:-0600
TZNAME:CST
DTSTART:20231105T070000
END:STANDARD
BEGIN:DAYLIGHT
TZOFFSETFROM:-0600
TZOFFSETTO:-0500
TZNAME:CDT
DTSTART:20240310T080000
END:DAYLIGHT
BEGIN:STANDARD
TZOFFSETFROM:-0500
TZOFFSETTO:-0600
TZNAME:CST
DTSTART:20241103T070000
END:STANDARD
BEGIN:DAYLIGHT
TZOFFSETFROM:-0600
TZOFFSETTO:-0500
TZNAME:CDT
DTSTART:20250309T080000
END:DAYLIGHT
BEGIN:STANDARD
TZOFFSETFROM:-0500
TZOFFSETTO:-0600
TZNAME:CST
DTSTART:20251102T070000
END:STANDARD
END:VTIMEZONE
BEGIN:VEVENT
DTSTART;TZID=America/Chicago:20240422T160000
DTEND;TZID=America/Chicago:20240422T170000
DTSTAMP:20260422T140722
CREATED:20240401T142114Z
LAST-MODIFIED:20240401T142114Z
UID:5083-1713801600-1713805200@barknbrewwi.com
SUMMARY:The Wandering Table Food Truck
DESCRIPTION:Dogs\, Drinks\, Dinner & Trivia \nDoors open at 4pm \nFood Truck 5-8pm \nTrivia starts at 6:30pm (register by 6pm)
URL:https://barknbrewwi.com/event/the-wandering-table-food-truck-7/
LOCATION:Bark & Brew\, 2514 Glendale Ave\, Green Bay\, WI\, 54313\, United States
ORGANIZER;CN="Bark & Brew":MAILTO:tara@barknbrewwi.com
END:VEVENT
BEGIN:VEVENT
DTSTART;TZID=America/Chicago:20240422T180000
DTEND;TZID=America/Chicago:20240422T210000
DTSTAMP:20260422T140722
CREATED:20240401T142001Z
LAST-MODIFIED:20240401T142001Z
UID:5081-1713808800-1713819600@barknbrewwi.com
SUMMARY:Trivia Night
DESCRIPTION:Trivia\, Drinks\, Dogs & Dinner!! \nDoors open at 4pm \nThe Wandering Table Food Truck 5-8pm \nTriva starts at 6:30pm (register your team by 6pm)
URL:https://barknbrewwi.com/event/trivia-night-4/
LOCATION:Bark & Brew\, 2514 Glendale Ave\, Green Bay\, WI\, 54313\, United States
ORGANIZER;CN="Bark & Brew":MAILTO:tara@barknbrewwi.com
END:VEVENT
END:VCALENDAR