BEGIN:VCALENDAR
VERSION:2.0
PRODID:-//Bark &amp; Brew - ECPv6.15.20//NONSGML v1.0//EN
CALSCALE:GREGORIAN
METHOD:PUBLISH
X-WR-CALNAME:Bark &amp; Brew
X-ORIGINAL-URL:https://barknbrewwi.com
X-WR-CALDESC:Events for Bark &amp; Brew
REFRESH-INTERVAL;VALUE=DURATION:PT1H
X-Robots-Tag:noindex
X-PUBLISHED-TTL:PT1H
BEGIN:VTIMEZONE
TZID:America/Chicago
BEGIN:DAYLIGHT
TZOFFSETFROM:-0600
TZOFFSETTO:-0500
TZNAME:CDT
DTSTART:20230312T080000
END:DAYLIGHT
BEGIN:STANDARD
TZOFFSETFROM:-0500
TZOFFSETTO:-0600
TZNAME:CST
DTSTART:20231105T070000
END:STANDARD
BEGIN:DAYLIGHT
TZOFFSETFROM:-0600
TZOFFSETTO:-0500
TZNAME:CDT
DTSTART:20240310T080000
END:DAYLIGHT
BEGIN:STANDARD
TZOFFSETFROM:-0500
TZOFFSETTO:-0600
TZNAME:CST
DTSTART:20241103T070000
END:STANDARD
BEGIN:DAYLIGHT
TZOFFSETFROM:-0600
TZOFFSETTO:-0500
TZNAME:CDT
DTSTART:20250309T080000
END:DAYLIGHT
BEGIN:STANDARD
TZOFFSETFROM:-0500
TZOFFSETTO:-0600
TZNAME:CST
DTSTART:20251102T070000
END:STANDARD
END:VTIMEZONE
BEGIN:VEVENT
DTSTART;TZID=America/Chicago:20240713T090000
DTEND;TZID=America/Chicago:20240713T100000
DTSTAMP:20260422T085744
CREATED:20240606T142759Z
LAST-MODIFIED:20240606T142759Z
UID:5210-1720861200-1720864800@barknbrewwi.com
SUMMARY:Boxing\, Barks\, Bands & Brews
DESCRIPTION:Get ready for a knockout event at Bark & Brew. Join us as we welcome Kari Merril – Programming Director\, Group Fitness Instructor & Personal Trainer with Western Racquet for a paw-some day filled with exciting cardio kick boxing\, full body band workout\, dogs and plenty of craft brews to enjoy. Bring your furry friends along to enjoy the fun atmosphere. It’s going to be a tail-wagging good time! Don’t miss out on this unique event that brings together the best of excercises\, dogs\, and drinks. Grab your tickets now! Start with some fitness and stick around for some fantastic drinks. \nBoxing\, Barks\, Bands & Brews Tickets\, Sat\, Jul 13\, 2024 at 9:00 AM | Eventbrite
URL:https://barknbrewwi.com/event/boxing-barks-bands-brews/
LOCATION:Bark & Brew\, 2514 Glendale Ave\, Green Bay\, WI\, 54313\, United States
ORGANIZER;CN="Bark & Brew":MAILTO:tara@barknbrewwi.com
END:VEVENT
END:VCALENDAR