BEGIN:VCALENDAR
VERSION:2.0
PRODID:-//Bark &amp; Brew - ECPv6.15.20//NONSGML v1.0//EN
CALSCALE:GREGORIAN
METHOD:PUBLISH
X-WR-CALNAME:Bark &amp; Brew
X-ORIGINAL-URL:https://barknbrewwi.com
X-WR-CALDESC:Events for Bark &amp; Brew
REFRESH-INTERVAL;VALUE=DURATION:PT1H
X-Robots-Tag:noindex
X-PUBLISHED-TTL:PT1H
BEGIN:VTIMEZONE
TZID:America/Chicago
BEGIN:DAYLIGHT
TZOFFSETFROM:-0600
TZOFFSETTO:-0500
TZNAME:CDT
DTSTART:20230312T080000
END:DAYLIGHT
BEGIN:STANDARD
TZOFFSETFROM:-0500
TZOFFSETTO:-0600
TZNAME:CST
DTSTART:20231105T070000
END:STANDARD
BEGIN:DAYLIGHT
TZOFFSETFROM:-0600
TZOFFSETTO:-0500
TZNAME:CDT
DTSTART:20240310T080000
END:DAYLIGHT
BEGIN:STANDARD
TZOFFSETFROM:-0500
TZOFFSETTO:-0600
TZNAME:CST
DTSTART:20241103T070000
END:STANDARD
BEGIN:DAYLIGHT
TZOFFSETFROM:-0600
TZOFFSETTO:-0500
TZNAME:CDT
DTSTART:20250309T080000
END:DAYLIGHT
BEGIN:STANDARD
TZOFFSETFROM:-0500
TZOFFSETTO:-0600
TZNAME:CST
DTSTART:20251102T070000
END:STANDARD
END:VTIMEZONE
BEGIN:VEVENT
DTSTART;TZID=America/Chicago:20240907T120000
DTEND;TZID=America/Chicago:20240907T160000
DTSTAMP:20260422T053208
CREATED:20240827T182332Z
LAST-MODIFIED:20240827T182332Z
UID:5239-1725710400-1725724800@barknbrewwi.com
SUMMARY:Booyah Sale Fundraiser
DESCRIPTION:Booyah sale benefiting the non profit youth rugby organization\, Pulaski Rugby. \n12-4pm\, or until sold out sooner. \n$20 half\, $30 gallon. \nPlease bring your own bucket if you have one!
URL:https://barknbrewwi.com/event/booyah-sale-fundraiser/
LOCATION:Bark & Brew\, 2514 Glendale Ave\, Green Bay\, WI\, 54313\, United States
ORGANIZER;CN="Bark & Brew":MAILTO:tara@barknbrewwi.com
END:VEVENT
BEGIN:VEVENT
DTSTART;TZID=America/Chicago:20240907T170000
DTEND;TZID=America/Chicago:20240907T200000
DTSTAMP:20260422T053208
CREATED:20240827T182546Z
LAST-MODIFIED:20240827T182546Z
UID:5242-1725728400-1725739200@barknbrewwi.com
SUMMARY:Birrieria Food Truck
DESCRIPTION:Dogs\, Drinks & Dinner!
URL:https://barknbrewwi.com/event/birrieria-food-truck/
LOCATION:Bark & Brew\, 2514 Glendale Ave\, Green Bay\, WI\, 54313\, United States
ORGANIZER;CN="Bark & Brew":MAILTO:tara@barknbrewwi.com
END:VEVENT
END:VCALENDAR