BEGIN:VCALENDAR
VERSION:2.0
PRODID:-//Bark &amp; Brew - ECPv6.15.20//NONSGML v1.0//EN
CALSCALE:GREGORIAN
METHOD:PUBLISH
X-ORIGINAL-URL:https://barknbrewwi.com
X-WR-CALDESC:Events for Bark &amp; Brew
REFRESH-INTERVAL;VALUE=DURATION:PT1H
X-Robots-Tag:noindex
X-PUBLISHED-TTL:PT1H
BEGIN:VTIMEZONE
TZID:America/Chicago
BEGIN:DAYLIGHT
TZOFFSETFROM:-0600
TZOFFSETTO:-0500
TZNAME:CDT
DTSTART:20230312T080000
END:DAYLIGHT
BEGIN:STANDARD
TZOFFSETFROM:-0500
TZOFFSETTO:-0600
TZNAME:CST
DTSTART:20231105T070000
END:STANDARD
BEGIN:DAYLIGHT
TZOFFSETFROM:-0600
TZOFFSETTO:-0500
TZNAME:CDT
DTSTART:20240310T080000
END:DAYLIGHT
BEGIN:STANDARD
TZOFFSETFROM:-0500
TZOFFSETTO:-0600
TZNAME:CST
DTSTART:20241103T070000
END:STANDARD
BEGIN:DAYLIGHT
TZOFFSETFROM:-0600
TZOFFSETTO:-0500
TZNAME:CDT
DTSTART:20250309T080000
END:DAYLIGHT
BEGIN:STANDARD
TZOFFSETFROM:-0500
TZOFFSETTO:-0600
TZNAME:CST
DTSTART:20251102T070000
END:STANDARD
END:VTIMEZONE
BEGIN:VEVENT
DTSTART;TZID=America/Chicago:20241012T110000
DTEND;TZID=America/Chicago:20241012T150000
DTSTAMP:20260422T034058
CREATED:20241003T163636Z
LAST-MODIFIED:20241003T163636Z
UID:5263-1728730800-1728745200@barknbrewwi.com
SUMMARY:Booyah Sale Benefiting Pulaski Rugby
DESCRIPTION:The non profit organization\, Pulaski Rugby\, will be doing a booyah sale to help fund their season!  Come enjoy some drinks\, play with pups and take home some delicious booyah!
URL:https://barknbrewwi.com/event/booyah-sale-benefiting-pulaski-rugby/
LOCATION:Bark & Brew\, 2514 Glendale Ave\, Green Bay\, WI\, 54313\, United States
ORGANIZER;CN="Bark & Brew":MAILTO:tara@barknbrewwi.com
END:VEVENT
END:VCALENDAR