BEGIN:VCALENDAR
VERSION:2.0
PRODID:-//Bark &amp; Brew - ECPv6.15.20//NONSGML v1.0//EN
CALSCALE:GREGORIAN
METHOD:PUBLISH
X-WR-CALNAME:Bark &amp; Brew
X-ORIGINAL-URL:https://barknbrewwi.com
X-WR-CALDESC:Events for Bark &amp; Brew
REFRESH-INTERVAL;VALUE=DURATION:PT1H
X-Robots-Tag:noindex
X-PUBLISHED-TTL:PT1H
BEGIN:VTIMEZONE
TZID:America/Chicago
BEGIN:DAYLIGHT
TZOFFSETFROM:-0600
TZOFFSETTO:-0500
TZNAME:CDT
DTSTART:20240310T080000
END:DAYLIGHT
BEGIN:STANDARD
TZOFFSETFROM:-0500
TZOFFSETTO:-0600
TZNAME:CST
DTSTART:20241103T070000
END:STANDARD
BEGIN:DAYLIGHT
TZOFFSETFROM:-0600
TZOFFSETTO:-0500
TZNAME:CDT
DTSTART:20250309T080000
END:DAYLIGHT
BEGIN:STANDARD
TZOFFSETFROM:-0500
TZOFFSETTO:-0600
TZNAME:CST
DTSTART:20251102T070000
END:STANDARD
BEGIN:DAYLIGHT
TZOFFSETFROM:-0600
TZOFFSETTO:-0500
TZNAME:CDT
DTSTART:20260308T080000
END:DAYLIGHT
BEGIN:STANDARD
TZOFFSETFROM:-0500
TZOFFSETTO:-0600
TZNAME:CST
DTSTART:20261101T070000
END:STANDARD
END:VTIMEZONE
BEGIN:VEVENT
DTSTART;TZID=America/Chicago:20250329T120000
DTEND;TZID=America/Chicago:20250329T150000
DTSTAMP:20260421T194430
CREATED:20250319T204133Z
LAST-MODIFIED:20250319T204133Z
UID:5353-1743249600-1743260400@barknbrewwi.com
SUMMARY:Kickin' Ash BBQ Food Truck
DESCRIPTION:Join us for some delicious drinks\, amazing food and of course…DOGS! \nCircle of Souls Animal Rescue Event also going on\, 1-5pm.
URL:https://barknbrewwi.com/event/kickin-ash-bbq-food-truck-4/
LOCATION:Bark & Brew\, 2514 Glendale Ave\, Green Bay\, WI\, 54313\, United States
ORGANIZER;CN="Bark & Brew":MAILTO:tara@barknbrewwi.com
END:VEVENT
END:VCALENDAR