BEGIN:VCALENDAR
VERSION:2.0
PRODID:-//Bark &amp; Brew - ECPv6.15.20//NONSGML v1.0//EN
CALSCALE:GREGORIAN
METHOD:PUBLISH
X-WR-CALNAME:Bark &amp; Brew
X-ORIGINAL-URL:https://barknbrewwi.com
X-WR-CALDESC:Events for Bark &amp; Brew
REFRESH-INTERVAL;VALUE=DURATION:PT1H
X-Robots-Tag:noindex
X-PUBLISHED-TTL:PT1H
BEGIN:VTIMEZONE
TZID:America/Chicago
BEGIN:DAYLIGHT
TZOFFSETFROM:-0600
TZOFFSETTO:-0500
TZNAME:CDT
DTSTART:20200308T080000
END:DAYLIGHT
BEGIN:STANDARD
TZOFFSETFROM:-0500
TZOFFSETTO:-0600
TZNAME:CST
DTSTART:20201101T070000
END:STANDARD
BEGIN:DAYLIGHT
TZOFFSETFROM:-0600
TZOFFSETTO:-0500
TZNAME:CDT
DTSTART:20210314T080000
END:DAYLIGHT
BEGIN:STANDARD
TZOFFSETFROM:-0500
TZOFFSETTO:-0600
TZNAME:CST
DTSTART:20211107T070000
END:STANDARD
BEGIN:DAYLIGHT
TZOFFSETFROM:-0600
TZOFFSETTO:-0500
TZNAME:CDT
DTSTART:20220313T080000
END:DAYLIGHT
BEGIN:STANDARD
TZOFFSETFROM:-0500
TZOFFSETTO:-0600
TZNAME:CST
DTSTART:20221106T070000
END:STANDARD
END:VTIMEZONE
BEGIN:VEVENT
DTSTART;TZID=America/Chicago:20210701T150000
DTEND;TZID=America/Chicago:20210701T210000
DTSTAMP:20260419T125243
CREATED:20200818T195925Z
LAST-MODIFIED:20200818T195925Z
UID:4691-1625151600-1625173200@barknbrewwi.com
SUMMARY:Thirsty Thursday
DESCRIPTION:THURSDAYS\n2:00 PM to 9:00 PM \nThursday Night Special:  $1 off pints of draft beer!  6 on tap – check them out on Thursdays!
URL:https://barknbrewwi.com/event/thirsty-thursday-2-2021-07-01/
CATEGORIES:Daily Drink Specials
ATTACH;FMTTYPE=image/jpeg:https://barknbrewwi.com/wp-content/uploads/2020/04/pug-beer-scaled.jpg
END:VEVENT
BEGIN:VEVENT
DTSTART;TZID=America/Chicago:20210630T160000
DTEND;TZID=America/Chicago:20210630T200000
DTSTAMP:20260419T125243
CREATED:20200818T200450Z
LAST-MODIFIED:20200818T200450Z
UID:4748-1625068800-1625083200@barknbrewwi.com
SUMMARY:Mid Week Mule Extravaganza
DESCRIPTION:WEDNESDAYS\n4:00 PM to 8:00 PM \nWednesday Night Special:  $1 off – Mid-Week Mule Extravaganza!  Try one of our ever changing\, made from scratch with our house blend mixes Moscow mules – they will not disappoint!
URL:https://barknbrewwi.com/event/mid-week-mule-extravaganza-2-2021-06-30/
CATEGORIES:Daily Drink Specials
ATTACH;FMTTYPE=image/jpeg:https://barknbrewwi.com/wp-content/uploads/2020/04/mule.jpg
END:VEVENT
BEGIN:VEVENT
DTSTART;TZID=America/Chicago:20210629T160000
DTEND;TZID=America/Chicago:20210629T200000
DTSTAMP:20260419T125243
CREATED:20200818T195151Z
LAST-MODIFIED:20200818T195151Z
UID:4774-1624982400-1624996800@barknbrewwi.com
SUMMARY:Margarita Night
DESCRIPTION:TUESDAYS\n4:00 PM to 8:00 PM \nMARGARITA NIGHT\n$1 off our fabulous made from scratch margaritas!
URL:https://barknbrewwi.com/event/margarita-night-4-2021-06-29/
CATEGORIES:Daily Drink Specials
ATTACH;FMTTYPE=image/jpeg:https://barknbrewwi.com/wp-content/uploads/2020/04/DSC_0035-scaled.jpg
END:VEVENT
BEGIN:VEVENT
DTSTART;TZID=America/Chicago:20210627T120000
DTEND;TZID=America/Chicago:20210627T160000
DTSTAMP:20260419T125243
CREATED:20210624T133759Z
LAST-MODIFIED:20210624T133759Z
UID:4800-1624795200-1624809600@barknbrewwi.com
SUMMARY:Build Your Own Bloody Mary Bar & Bottomless Mimosas
DESCRIPTION:Build your own bloody mary bar for $9.00 and bottomless mimosas $15.00 – noon until 4pm
URL:https://barknbrewwi.com/event/build-your-own-bloody-mary-bar-bottomless-mimosas-2/
CATEGORIES:Daily Drink Specials
ATTACH;FMTTYPE=image/jpeg:https://barknbrewwi.com/wp-content/uploads/2021/06/pexels-burst-544961-Medium.jpg
END:VEVENT
BEGIN:VEVENT
DTSTART;TZID=America/Chicago:20210626T180000
DTEND;TZID=America/Chicago:20210626T210000
DTSTAMP:20260419T125243
CREATED:20210624T133712Z
LAST-MODIFIED:20210624T133712Z
UID:4801-1624730400-1624741200@barknbrewwi.com
SUMMARY:Captain Quesadilla Food Truck
DESCRIPTION:Captain Quesadilla Food Truck 6pm – 9pm
URL:https://barknbrewwi.com/event/captain-quesadilla-food-truck/
ATTACH;FMTTYPE=image/jpeg:https://barknbrewwi.com/wp-content/uploads/2021/06/62575756_610543449458732_560957140135575552_n.jpg
END:VEVENT
BEGIN:VEVENT
DTSTART;TZID=America/Chicago:20210626T120000
DTEND;TZID=America/Chicago:20210626T160000
DTSTAMP:20260419T125243
CREATED:20210624T133437Z
LAST-MODIFIED:20210624T133437Z
UID:4797-1624708800-1624723200@barknbrewwi.com
SUMMARY:Build Your Own Bloody Mary Bar & Bottomless Mimosas
DESCRIPTION:Build your own bloody mary bar for $9.00 and bottomless mimosas $15.00 – noon until 4pm
URL:https://barknbrewwi.com/event/build-your-own-bloody-mary-bar-bottomless-mimosas/
CATEGORIES:Daily Drink Specials
ATTACH;FMTTYPE=image/jpeg:https://barknbrewwi.com/wp-content/uploads/2021/06/pexels-burst-544961-Medium.jpg
END:VEVENT
BEGIN:VEVENT
DTSTART;TZID=America/Chicago:20210624T150000
DTEND;TZID=America/Chicago:20210624T210000
DTSTAMP:20260419T125243
CREATED:20200818T195925Z
LAST-MODIFIED:20200818T195925Z
UID:4690-1624546800-1624568400@barknbrewwi.com
SUMMARY:Thirsty Thursday
DESCRIPTION:THURSDAYS\n2:00 PM to 9:00 PM \nThursday Night Special:  $1 off pints of draft beer!  6 on tap – check them out on Thursdays!
URL:https://barknbrewwi.com/event/thirsty-thursday-2-2021-06-24/
CATEGORIES:Daily Drink Specials
ATTACH;FMTTYPE=image/jpeg:https://barknbrewwi.com/wp-content/uploads/2020/04/pug-beer-scaled.jpg
END:VEVENT
BEGIN:VEVENT
DTSTART;TZID=America/Chicago:20210623T160000
DTEND;TZID=America/Chicago:20210623T200000
DTSTAMP:20260419T125243
CREATED:20200818T200450Z
LAST-MODIFIED:20200818T200450Z
UID:4747-1624464000-1624478400@barknbrewwi.com
SUMMARY:Mid Week Mule Extravaganza
DESCRIPTION:WEDNESDAYS\n4:00 PM to 8:00 PM \nWednesday Night Special:  $1 off – Mid-Week Mule Extravaganza!  Try one of our ever changing\, made from scratch with our house blend mixes Moscow mules – they will not disappoint!
URL:https://barknbrewwi.com/event/mid-week-mule-extravaganza-2-2021-06-23/
CATEGORIES:Daily Drink Specials
ATTACH;FMTTYPE=image/jpeg:https://barknbrewwi.com/wp-content/uploads/2020/04/mule.jpg
END:VEVENT
BEGIN:VEVENT
DTSTART;TZID=America/Chicago:20210622T160000
DTEND;TZID=America/Chicago:20210622T200000
DTSTAMP:20260419T125243
CREATED:20200818T195151Z
LAST-MODIFIED:20200818T195151Z
UID:4773-1624377600-1624392000@barknbrewwi.com
SUMMARY:Margarita Night
DESCRIPTION:TUESDAYS\n4:00 PM to 8:00 PM \nMARGARITA NIGHT\n$1 off our fabulous made from scratch margaritas!
URL:https://barknbrewwi.com/event/margarita-night-4-2021-06-22/
CATEGORIES:Daily Drink Specials
ATTACH;FMTTYPE=image/jpeg:https://barknbrewwi.com/wp-content/uploads/2020/04/DSC_0035-scaled.jpg
END:VEVENT
BEGIN:VEVENT
DTSTART;TZID=America/Chicago:20210621T163000
DTEND;TZID=America/Chicago:20210621T203000
DTSTAMP:20260419T125243
CREATED:20210430T175845Z
LAST-MODIFIED:20210430T175845Z
UID:4649-1624293000-1624307400@barknbrewwi.com
SUMMARY:Small Dog Night
DESCRIPTION:Small Dog Night from 4:30-8:30 (small dogs only)
URL:https://barknbrewwi.com/event/small-dog-night-4/
CATEGORIES:Community Events
ATTACH;FMTTYPE=image/jpeg:https://barknbrewwi.com/wp-content/uploads/2021/02/144916339_1153832945066891_1781099166047797722_n.jpg
END:VEVENT
BEGIN:VEVENT
DTSTART;TZID=America/Chicago:20210617T150000
DTEND;TZID=America/Chicago:20210617T210000
DTSTAMP:20260419T125243
CREATED:20200818T195925Z
LAST-MODIFIED:20200818T195925Z
UID:4689-1623942000-1623963600@barknbrewwi.com
SUMMARY:Thirsty Thursday
DESCRIPTION:THURSDAYS\n2:00 PM to 9:00 PM \nThursday Night Special:  $1 off pints of draft beer!  6 on tap – check them out on Thursdays!
URL:https://barknbrewwi.com/event/thirsty-thursday-2-2021-06-17/
CATEGORIES:Daily Drink Specials
ATTACH;FMTTYPE=image/jpeg:https://barknbrewwi.com/wp-content/uploads/2020/04/pug-beer-scaled.jpg
END:VEVENT
BEGIN:VEVENT
DTSTART;TZID=America/Chicago:20210616T160000
DTEND;TZID=America/Chicago:20210616T200000
DTSTAMP:20260419T125243
CREATED:20200818T200450Z
LAST-MODIFIED:20200818T200450Z
UID:4746-1623859200-1623873600@barknbrewwi.com
SUMMARY:Mid Week Mule Extravaganza
DESCRIPTION:WEDNESDAYS\n4:00 PM to 8:00 PM \nWednesday Night Special:  $1 off – Mid-Week Mule Extravaganza!  Try one of our ever changing\, made from scratch with our house blend mixes Moscow mules – they will not disappoint!
URL:https://barknbrewwi.com/event/mid-week-mule-extravaganza-2-2021-06-16/
CATEGORIES:Daily Drink Specials
ATTACH;FMTTYPE=image/jpeg:https://barknbrewwi.com/wp-content/uploads/2020/04/mule.jpg
END:VEVENT
BEGIN:VEVENT
DTSTART;TZID=America/Chicago:20210615T160000
DTEND;TZID=America/Chicago:20210615T200000
DTSTAMP:20260419T125243
CREATED:20200818T195151Z
LAST-MODIFIED:20200818T195151Z
UID:4772-1623772800-1623787200@barknbrewwi.com
SUMMARY:Margarita Night
DESCRIPTION:TUESDAYS\n4:00 PM to 8:00 PM \nMARGARITA NIGHT\n$1 off our fabulous made from scratch margaritas!
URL:https://barknbrewwi.com/event/margarita-night-4-2021-06-15/
CATEGORIES:Daily Drink Specials
ATTACH;FMTTYPE=image/jpeg:https://barknbrewwi.com/wp-content/uploads/2020/04/DSC_0035-scaled.jpg
END:VEVENT
BEGIN:VEVENT
DTSTART;TZID=America/Chicago:20210612T140000
DTEND;TZID=America/Chicago:20210612T170000
DTSTAMP:20260419T125243
CREATED:20210608T134901Z
LAST-MODIFIED:20210608T134901Z
UID:4684-1623506400-1623517200@barknbrewwi.com
SUMMARY:Live Music Outside with Jesse Mancha & Rusty’s BBQ Food Truck
DESCRIPTION:
URL:https://barknbrewwi.com/event/live-music-outside-with-jesse-mancha-rustys-bbq-food-truck/
CATEGORIES:Community Events
ATTACH;FMTTYPE=image/jpeg:https://barknbrewwi.com/wp-content/uploads/2021/02/143304669_1150749925375193_3221809855941690075_n.jpg
END:VEVENT
BEGIN:VEVENT
DTSTART;TZID=America/Chicago:20210610T150000
DTEND;TZID=America/Chicago:20210610T210000
DTSTAMP:20260419T125243
CREATED:20200818T195925Z
LAST-MODIFIED:20200818T195925Z
UID:4688-1623337200-1623358800@barknbrewwi.com
SUMMARY:Thirsty Thursday
DESCRIPTION:THURSDAYS\n2:00 PM to 9:00 PM \nThursday Night Special:  $1 off pints of draft beer!  6 on tap – check them out on Thursdays!
URL:https://barknbrewwi.com/event/thirsty-thursday-2-2021-06-10/
CATEGORIES:Daily Drink Specials
ATTACH;FMTTYPE=image/jpeg:https://barknbrewwi.com/wp-content/uploads/2020/04/pug-beer-scaled.jpg
END:VEVENT
BEGIN:VEVENT
DTSTART;TZID=America/Chicago:20210609T160000
DTEND;TZID=America/Chicago:20210609T200000
DTSTAMP:20260419T125243
CREATED:20200818T200450Z
LAST-MODIFIED:20200818T200450Z
UID:4745-1623254400-1623268800@barknbrewwi.com
SUMMARY:Mid Week Mule Extravaganza
DESCRIPTION:WEDNESDAYS\n4:00 PM to 8:00 PM \nWednesday Night Special:  $1 off – Mid-Week Mule Extravaganza!  Try one of our ever changing\, made from scratch with our house blend mixes Moscow mules – they will not disappoint!
URL:https://barknbrewwi.com/event/mid-week-mule-extravaganza-2-2021-06-09/
CATEGORIES:Daily Drink Specials
ATTACH;FMTTYPE=image/jpeg:https://barknbrewwi.com/wp-content/uploads/2020/04/mule.jpg
END:VEVENT
BEGIN:VEVENT
DTSTART;TZID=America/Chicago:20210608T160000
DTEND;TZID=America/Chicago:20210608T200000
DTSTAMP:20260419T125243
CREATED:20200818T195151Z
LAST-MODIFIED:20200818T195151Z
UID:4771-1623168000-1623182400@barknbrewwi.com
SUMMARY:Margarita Night
DESCRIPTION:TUESDAYS\n4:00 PM to 8:00 PM \nMARGARITA NIGHT\n$1 off our fabulous made from scratch margaritas!
URL:https://barknbrewwi.com/event/margarita-night-4-2021-06-08/
CATEGORIES:Daily Drink Specials
ATTACH;FMTTYPE=image/jpeg:https://barknbrewwi.com/wp-content/uploads/2020/04/DSC_0035-scaled.jpg
END:VEVENT
BEGIN:VEVENT
DTSTART;TZID=America/Chicago:20210603T150000
DTEND;TZID=America/Chicago:20210603T210000
DTSTAMP:20260419T125243
CREATED:20200818T195925Z
LAST-MODIFIED:20200818T195925Z
UID:4687-1622732400-1622754000@barknbrewwi.com
SUMMARY:Thirsty Thursday
DESCRIPTION:THURSDAYS\n2:00 PM to 9:00 PM \nThursday Night Special:  $1 off pints of draft beer!  6 on tap – check them out on Thursdays!
URL:https://barknbrewwi.com/event/thirsty-thursday-2-2021-06-03/
CATEGORIES:Daily Drink Specials
ATTACH;FMTTYPE=image/jpeg:https://barknbrewwi.com/wp-content/uploads/2020/04/pug-beer-scaled.jpg
END:VEVENT
BEGIN:VEVENT
DTSTART;TZID=America/Chicago:20210602T160000
DTEND;TZID=America/Chicago:20210602T200000
DTSTAMP:20260419T125243
CREATED:20200818T200450Z
LAST-MODIFIED:20200818T200450Z
UID:4744-1622649600-1622664000@barknbrewwi.com
SUMMARY:Mid Week Mule Extravaganza
DESCRIPTION:WEDNESDAYS\n4:00 PM to 8:00 PM \nWednesday Night Special:  $1 off – Mid-Week Mule Extravaganza!  Try one of our ever changing\, made from scratch with our house blend mixes Moscow mules – they will not disappoint!
URL:https://barknbrewwi.com/event/mid-week-mule-extravaganza-2-2021-06-02/
CATEGORIES:Daily Drink Specials
ATTACH;FMTTYPE=image/jpeg:https://barknbrewwi.com/wp-content/uploads/2020/04/mule.jpg
END:VEVENT
BEGIN:VEVENT
DTSTART;TZID=America/Chicago:20210601T160000
DTEND;TZID=America/Chicago:20210601T200000
DTSTAMP:20260419T125243
CREATED:20200818T195151Z
LAST-MODIFIED:20200818T195151Z
UID:4770-1622563200-1622577600@barknbrewwi.com
SUMMARY:Margarita Night
DESCRIPTION:TUESDAYS\n4:00 PM to 8:00 PM \nMARGARITA NIGHT\n$1 off our fabulous made from scratch margaritas!
URL:https://barknbrewwi.com/event/margarita-night-4-2021-06-01/
CATEGORIES:Daily Drink Specials
ATTACH;FMTTYPE=image/jpeg:https://barknbrewwi.com/wp-content/uploads/2020/04/DSC_0035-scaled.jpg
END:VEVENT
BEGIN:VEVENT
DTSTART;TZID=America/Chicago:20210527T150000
DTEND;TZID=America/Chicago:20210527T210000
DTSTAMP:20260419T125243
CREATED:20200818T195925Z
LAST-MODIFIED:20210608T135019Z
UID:4631-1622127600-1622149200@barknbrewwi.com
SUMMARY:Thirsty Thursday
DESCRIPTION:THURSDAYS\n2:00 PM to 9:00 PM \nThursday Night Special:  $1 off pints of draft beer!  6 on tap – check them out on Thursdays!
URL:https://barknbrewwi.com/event/thirsty-thursday-2-2021-05-27/
CATEGORIES:Daily Drink Specials
ATTACH;FMTTYPE=image/jpeg:https://barknbrewwi.com/wp-content/uploads/2020/04/pug-beer-scaled.jpg
END:VEVENT
BEGIN:VEVENT
DTSTART;TZID=America/Chicago:20210526T160000
DTEND;TZID=America/Chicago:20210526T200000
DTSTAMP:20260419T125243
CREATED:20200818T200450Z
LAST-MODIFIED:20210608T135115Z
UID:4498-1622044800-1622059200@barknbrewwi.com
SUMMARY:Mid Week Mule Extravaganza
DESCRIPTION:WEDNESDAYS\n4:00 PM to 8:00 PM \nWednesday Night Special:  $1 off – Mid-Week Mule Extravaganza!  Try one of our ever changing\, made from scratch with our house blend mixes Moscow mules – they will not disappoint!
URL:https://barknbrewwi.com/event/mid-week-mule-extravaganza-2-2021-05-26/
CATEGORIES:Daily Drink Specials
ATTACH;FMTTYPE=image/jpeg:https://barknbrewwi.com/wp-content/uploads/2020/04/mule.jpg
END:VEVENT
BEGIN:VEVENT
DTSTART;TZID=America/Chicago:20210525T160000
DTEND;TZID=America/Chicago:20210525T200000
DTSTAMP:20260419T125243
CREATED:20200818T195151Z
LAST-MODIFIED:20210608T135217Z
UID:4518-1621958400-1621972800@barknbrewwi.com
SUMMARY:Margarita Night
DESCRIPTION:TUESDAYS\n4:00 PM to 8:00 PM \nMARGARITA NIGHT\n$1 off our fabulous made from scratch margaritas!
URL:https://barknbrewwi.com/event/margarita-night-4-2021-05-25/
CATEGORIES:Daily Drink Specials
ATTACH;FMTTYPE=image/jpeg:https://barknbrewwi.com/wp-content/uploads/2020/04/DSC_0035-scaled.jpg
END:VEVENT
BEGIN:VEVENT
DTSTART;TZID=America/Chicago:20210520T150000
DTEND;TZID=America/Chicago:20210520T210000
DTSTAMP:20260419T125243
CREATED:20200818T195925Z
LAST-MODIFIED:20210608T135019Z
UID:4630-1621522800-1621544400@barknbrewwi.com
SUMMARY:Thirsty Thursday
DESCRIPTION:THURSDAYS\n2:00 PM to 9:00 PM \nThursday Night Special:  $1 off pints of draft beer!  6 on tap – check them out on Thursdays!
URL:https://barknbrewwi.com/event/thirsty-thursday-2-2021-05-20/
CATEGORIES:Daily Drink Specials
ATTACH;FMTTYPE=image/jpeg:https://barknbrewwi.com/wp-content/uploads/2020/04/pug-beer-scaled.jpg
END:VEVENT
BEGIN:VEVENT
DTSTART;TZID=America/Chicago:20210519T160000
DTEND;TZID=America/Chicago:20210519T200000
DTSTAMP:20260419T125243
CREATED:20200818T200450Z
LAST-MODIFIED:20210608T135115Z
UID:4497-1621440000-1621454400@barknbrewwi.com
SUMMARY:Mid Week Mule Extravaganza
DESCRIPTION:WEDNESDAYS\n4:00 PM to 8:00 PM \nWednesday Night Special:  $1 off – Mid-Week Mule Extravaganza!  Try one of our ever changing\, made from scratch with our house blend mixes Moscow mules – they will not disappoint!
URL:https://barknbrewwi.com/event/mid-week-mule-extravaganza-2-2021-05-19/
CATEGORIES:Daily Drink Specials
ATTACH;FMTTYPE=image/jpeg:https://barknbrewwi.com/wp-content/uploads/2020/04/mule.jpg
END:VEVENT
BEGIN:VEVENT
DTSTART;TZID=America/Chicago:20210518T160000
DTEND;TZID=America/Chicago:20210518T200000
DTSTAMP:20260419T125243
CREATED:20200818T195151Z
LAST-MODIFIED:20210608T135216Z
UID:4517-1621353600-1621368000@barknbrewwi.com
SUMMARY:Margarita Night
DESCRIPTION:TUESDAYS\n4:00 PM to 8:00 PM \nMARGARITA NIGHT\n$1 off our fabulous made from scratch margaritas!
URL:https://barknbrewwi.com/event/margarita-night-4-2021-05-18/
CATEGORIES:Daily Drink Specials
ATTACH;FMTTYPE=image/jpeg:https://barknbrewwi.com/wp-content/uploads/2020/04/DSC_0035-scaled.jpg
END:VEVENT
BEGIN:VEVENT
DTSTART;TZID=America/Chicago:20210517T163000
DTEND;TZID=America/Chicago:20210517T203000
DTSTAMP:20260419T125243
CREATED:20210430T175807Z
LAST-MODIFIED:20210430T175807Z
UID:4647-1621269000-1621283400@barknbrewwi.com
SUMMARY:Small Dog Night
DESCRIPTION:Small Dog Night from 4:30-8:30 (small dogs only)
URL:https://barknbrewwi.com/event/small-dog-night-3/
CATEGORIES:Community Events
ATTACH;FMTTYPE=image/jpeg:https://barknbrewwi.com/wp-content/uploads/2021/02/144916339_1153832945066891_1781099166047797722_n.jpg
END:VEVENT
BEGIN:VEVENT
DTSTART;TZID=America/Chicago:20210513T150000
DTEND;TZID=America/Chicago:20210513T210000
DTSTAMP:20260419T125243
CREATED:20200818T195925Z
LAST-MODIFIED:20210608T135019Z
UID:4629-1620918000-1620939600@barknbrewwi.com
SUMMARY:Thirsty Thursday
DESCRIPTION:THURSDAYS\n2:00 PM to 9:00 PM \nThursday Night Special:  $1 off pints of draft beer!  6 on tap – check them out on Thursdays!
URL:https://barknbrewwi.com/event/thirsty-thursday-2-2021-05-13/
CATEGORIES:Daily Drink Specials
ATTACH;FMTTYPE=image/jpeg:https://barknbrewwi.com/wp-content/uploads/2020/04/pug-beer-scaled.jpg
END:VEVENT
BEGIN:VEVENT
DTSTART;TZID=America/Chicago:20210512T160000
DTEND;TZID=America/Chicago:20210512T200000
DTSTAMP:20260419T125243
CREATED:20200818T200450Z
LAST-MODIFIED:20210608T135115Z
UID:4496-1620835200-1620849600@barknbrewwi.com
SUMMARY:Mid Week Mule Extravaganza
DESCRIPTION:WEDNESDAYS\n4:00 PM to 8:00 PM \nWednesday Night Special:  $1 off – Mid-Week Mule Extravaganza!  Try one of our ever changing\, made from scratch with our house blend mixes Moscow mules – they will not disappoint!
URL:https://barknbrewwi.com/event/mid-week-mule-extravaganza-2-2021-05-12/
CATEGORIES:Daily Drink Specials
ATTACH;FMTTYPE=image/jpeg:https://barknbrewwi.com/wp-content/uploads/2020/04/mule.jpg
END:VEVENT
BEGIN:VEVENT
DTSTART;TZID=America/Chicago:20210511T160000
DTEND;TZID=America/Chicago:20210511T200000
DTSTAMP:20260419T125243
CREATED:20200818T195151Z
LAST-MODIFIED:20210608T135216Z
UID:4516-1620748800-1620763200@barknbrewwi.com
SUMMARY:Margarita Night
DESCRIPTION:TUESDAYS\n4:00 PM to 8:00 PM \nMARGARITA NIGHT\n$1 off our fabulous made from scratch margaritas!
URL:https://barknbrewwi.com/event/margarita-night-4-2021-05-11/
CATEGORIES:Daily Drink Specials
ATTACH;FMTTYPE=image/jpeg:https://barknbrewwi.com/wp-content/uploads/2020/04/DSC_0035-scaled.jpg
END:VEVENT
END:VCALENDAR