BEGIN:VCALENDAR
VERSION:2.0
PRODID:-//Bark &amp; Brew - ECPv6.15.20//NONSGML v1.0//EN
CALSCALE:GREGORIAN
METHOD:PUBLISH
X-WR-CALNAME:Bark &amp; Brew
X-ORIGINAL-URL:https://barknbrewwi.com
X-WR-CALDESC:Events for Bark &amp; Brew
REFRESH-INTERVAL;VALUE=DURATION:PT1H
X-Robots-Tag:noindex
X-PUBLISHED-TTL:PT1H
BEGIN:VTIMEZONE
TZID:America/Chicago
BEGIN:DAYLIGHT
TZOFFSETFROM:-0600
TZOFFSETTO:-0500
TZNAME:CDT
DTSTART:20200308T080000
END:DAYLIGHT
BEGIN:STANDARD
TZOFFSETFROM:-0500
TZOFFSETTO:-0600
TZNAME:CST
DTSTART:20201101T070000
END:STANDARD
BEGIN:DAYLIGHT
TZOFFSETFROM:-0600
TZOFFSETTO:-0500
TZNAME:CDT
DTSTART:20210314T080000
END:DAYLIGHT
BEGIN:STANDARD
TZOFFSETFROM:-0500
TZOFFSETTO:-0600
TZNAME:CST
DTSTART:20211107T070000
END:STANDARD
BEGIN:DAYLIGHT
TZOFFSETFROM:-0600
TZOFFSETTO:-0500
TZNAME:CDT
DTSTART:20220313T080000
END:DAYLIGHT
BEGIN:STANDARD
TZOFFSETFROM:-0500
TZOFFSETTO:-0600
TZNAME:CST
DTSTART:20221106T070000
END:STANDARD
END:VTIMEZONE
BEGIN:VEVENT
DTSTART;TZID=America/Chicago:20210506T150000
DTEND;TZID=America/Chicago:20210506T210000
DTSTAMP:20260419T231332
CREATED:20200818T195925Z
LAST-MODIFIED:20210608T135019Z
UID:4628-1620313200-1620334800@barknbrewwi.com
SUMMARY:Thirsty Thursday
DESCRIPTION:THURSDAYS\n2:00 PM to 9:00 PM \nThursday Night Special:  $1 off pints of draft beer!  6 on tap – check them out on Thursdays!
URL:https://barknbrewwi.com/event/thirsty-thursday-2-2021-05-06/
CATEGORIES:Daily Drink Specials
ATTACH;FMTTYPE=image/jpeg:https://barknbrewwi.com/wp-content/uploads/2020/04/pug-beer-scaled.jpg
END:VEVENT
BEGIN:VEVENT
DTSTART;TZID=America/Chicago:20210505T160000
DTEND;TZID=America/Chicago:20210505T200000
DTSTAMP:20260419T231332
CREATED:20200818T200450Z
LAST-MODIFIED:20210608T135115Z
UID:4495-1620230400-1620244800@barknbrewwi.com
SUMMARY:Mid Week Mule Extravaganza
DESCRIPTION:WEDNESDAYS\n4:00 PM to 8:00 PM \nWednesday Night Special:  $1 off – Mid-Week Mule Extravaganza!  Try one of our ever changing\, made from scratch with our house blend mixes Moscow mules – they will not disappoint!
URL:https://barknbrewwi.com/event/mid-week-mule-extravaganza-2-2021-05-05/
CATEGORIES:Daily Drink Specials
ATTACH;FMTTYPE=image/jpeg:https://barknbrewwi.com/wp-content/uploads/2020/04/mule.jpg
END:VEVENT
BEGIN:VEVENT
DTSTART;TZID=America/Chicago:20210504T160000
DTEND;TZID=America/Chicago:20210504T200000
DTSTAMP:20260419T231332
CREATED:20200818T195151Z
LAST-MODIFIED:20210608T135216Z
UID:4515-1620144000-1620158400@barknbrewwi.com
SUMMARY:Margarita Night
DESCRIPTION:TUESDAYS\n4:00 PM to 8:00 PM \nMARGARITA NIGHT\n$1 off our fabulous made from scratch margaritas!
URL:https://barknbrewwi.com/event/margarita-night-4-2021-05-04/
CATEGORIES:Daily Drink Specials
ATTACH;FMTTYPE=image/jpeg:https://barknbrewwi.com/wp-content/uploads/2020/04/DSC_0035-scaled.jpg
END:VEVENT
BEGIN:VEVENT
DTSTART;TZID=America/Chicago:20210429T150000
DTEND;TZID=America/Chicago:20210429T210000
DTSTAMP:20260419T231332
CREATED:20200818T195925Z
LAST-MODIFIED:20210608T135019Z
UID:4627-1619708400-1619730000@barknbrewwi.com
SUMMARY:Thirsty Thursday
DESCRIPTION:THURSDAYS\n2:00 PM to 9:00 PM \nThursday Night Special:  $1 off pints of draft beer!  6 on tap – check them out on Thursdays!
URL:https://barknbrewwi.com/event/thirsty-thursday-2-2021-04-29/
CATEGORIES:Daily Drink Specials
ATTACH;FMTTYPE=image/jpeg:https://barknbrewwi.com/wp-content/uploads/2020/04/pug-beer-scaled.jpg
END:VEVENT
BEGIN:VEVENT
DTSTART;TZID=America/Chicago:20210428T160000
DTEND;TZID=America/Chicago:20210428T200000
DTSTAMP:20260419T231332
CREATED:20200818T200450Z
LAST-MODIFIED:20210608T135114Z
UID:4494-1619625600-1619640000@barknbrewwi.com
SUMMARY:Mid Week Mule Extravaganza
DESCRIPTION:WEDNESDAYS\n4:00 PM to 8:00 PM \nWednesday Night Special:  $1 off – Mid-Week Mule Extravaganza!  Try one of our ever changing\, made from scratch with our house blend mixes Moscow mules – they will not disappoint!
URL:https://barknbrewwi.com/event/mid-week-mule-extravaganza-2-2021-04-28/
CATEGORIES:Daily Drink Specials
ATTACH;FMTTYPE=image/jpeg:https://barknbrewwi.com/wp-content/uploads/2020/04/mule.jpg
END:VEVENT
BEGIN:VEVENT
DTSTART;TZID=America/Chicago:20210427T160000
DTEND;TZID=America/Chicago:20210427T200000
DTSTAMP:20260419T231332
CREATED:20200818T195151Z
LAST-MODIFIED:20210608T135216Z
UID:4514-1619539200-1619553600@barknbrewwi.com
SUMMARY:Margarita Night
DESCRIPTION:TUESDAYS\n4:00 PM to 8:00 PM \nMARGARITA NIGHT\n$1 off our fabulous made from scratch margaritas!
URL:https://barknbrewwi.com/event/margarita-night-4-2021-04-27/
CATEGORIES:Daily Drink Specials
ATTACH;FMTTYPE=image/jpeg:https://barknbrewwi.com/wp-content/uploads/2020/04/DSC_0035-scaled.jpg
END:VEVENT
BEGIN:VEVENT
DTSTART;TZID=America/Chicago:20210422T150000
DTEND;TZID=America/Chicago:20210422T210000
DTSTAMP:20260419T231332
CREATED:20200818T195925Z
LAST-MODIFIED:20210608T135019Z
UID:4626-1619103600-1619125200@barknbrewwi.com
SUMMARY:Thirsty Thursday
DESCRIPTION:THURSDAYS\n2:00 PM to 9:00 PM \nThursday Night Special:  $1 off pints of draft beer!  6 on tap – check them out on Thursdays!
URL:https://barknbrewwi.com/event/thirsty-thursday-2-2021-04-22/
CATEGORIES:Daily Drink Specials
ATTACH;FMTTYPE=image/jpeg:https://barknbrewwi.com/wp-content/uploads/2020/04/pug-beer-scaled.jpg
END:VEVENT
BEGIN:VEVENT
DTSTART;TZID=America/Chicago:20210421T170000
DTEND;TZID=America/Chicago:20210421T190000
DTSTAMP:20260419T231332
CREATED:20210415T231056Z
LAST-MODIFIED:20210415T231056Z
UID:4641-1619024400-1619031600@barknbrewwi.com
SUMMARY:April Birthday Party
DESCRIPTION:Come celebrate your pet’s April birthday! Come join us for: \n\nRaffle prizes! Buy a drink and get a ticket to enter\nBring in a donation for a local pet rescue!\nLearn how pawTree can help your pet live a healthier & happier life!
URL:https://barknbrewwi.com/event/april-birthday-party/
CATEGORIES:Community Events
ATTACH;FMTTYPE=image/jpeg:https://barknbrewwi.com/wp-content/uploads/2021/04/pawtree-logo.jpg
END:VEVENT
BEGIN:VEVENT
DTSTART;TZID=America/Chicago:20210421T160000
DTEND;TZID=America/Chicago:20210421T200000
DTSTAMP:20260419T231332
CREATED:20200818T200450Z
LAST-MODIFIED:20210608T135114Z
UID:4493-1619020800-1619035200@barknbrewwi.com
SUMMARY:Mid Week Mule Extravaganza
DESCRIPTION:WEDNESDAYS\n4:00 PM to 8:00 PM \nWednesday Night Special:  $1 off – Mid-Week Mule Extravaganza!  Try one of our ever changing\, made from scratch with our house blend mixes Moscow mules – they will not disappoint!
URL:https://barknbrewwi.com/event/mid-week-mule-extravaganza-2-2021-04-21/
CATEGORIES:Daily Drink Specials
ATTACH;FMTTYPE=image/jpeg:https://barknbrewwi.com/wp-content/uploads/2020/04/mule.jpg
END:VEVENT
BEGIN:VEVENT
DTSTART;TZID=America/Chicago:20210420T160000
DTEND;TZID=America/Chicago:20210420T200000
DTSTAMP:20260419T231332
CREATED:20200818T195151Z
LAST-MODIFIED:20210608T135215Z
UID:4513-1618934400-1618948800@barknbrewwi.com
SUMMARY:Margarita Night
DESCRIPTION:TUESDAYS\n4:00 PM to 8:00 PM \nMARGARITA NIGHT\n$1 off our fabulous made from scratch margaritas!
URL:https://barknbrewwi.com/event/margarita-night-4-2021-04-20/
CATEGORIES:Daily Drink Specials
ATTACH;FMTTYPE=image/jpeg:https://barknbrewwi.com/wp-content/uploads/2020/04/DSC_0035-scaled.jpg
END:VEVENT
BEGIN:VEVENT
DTSTART;TZID=America/Chicago:20210415T150000
DTEND;TZID=America/Chicago:20210415T210000
DTSTAMP:20260419T231332
CREATED:20200818T195925Z
LAST-MODIFIED:20210608T135018Z
UID:4625-1618498800-1618520400@barknbrewwi.com
SUMMARY:Thirsty Thursday
DESCRIPTION:THURSDAYS\n2:00 PM to 9:00 PM \nThursday Night Special:  $1 off pints of draft beer!  6 on tap – check them out on Thursdays!
URL:https://barknbrewwi.com/event/thirsty-thursday-2-2021-04-15/
CATEGORIES:Daily Drink Specials
ATTACH;FMTTYPE=image/jpeg:https://barknbrewwi.com/wp-content/uploads/2020/04/pug-beer-scaled.jpg
END:VEVENT
BEGIN:VEVENT
DTSTART;TZID=America/Chicago:20210414T160000
DTEND;TZID=America/Chicago:20210414T200000
DTSTAMP:20260419T231332
CREATED:20200818T200450Z
LAST-MODIFIED:20210608T135114Z
UID:4492-1618416000-1618430400@barknbrewwi.com
SUMMARY:Mid Week Mule Extravaganza
DESCRIPTION:WEDNESDAYS\n4:00 PM to 8:00 PM \nWednesday Night Special:  $1 off – Mid-Week Mule Extravaganza!  Try one of our ever changing\, made from scratch with our house blend mixes Moscow mules – they will not disappoint!
URL:https://barknbrewwi.com/event/mid-week-mule-extravaganza-2-2021-04-14/
CATEGORIES:Daily Drink Specials
ATTACH;FMTTYPE=image/jpeg:https://barknbrewwi.com/wp-content/uploads/2020/04/mule.jpg
END:VEVENT
BEGIN:VEVENT
DTSTART;TZID=America/Chicago:20210413T160000
DTEND;TZID=America/Chicago:20210413T200000
DTSTAMP:20260419T231332
CREATED:20200818T195151Z
LAST-MODIFIED:20210608T135215Z
UID:4512-1618329600-1618344000@barknbrewwi.com
SUMMARY:Margarita Night
DESCRIPTION:TUESDAYS\n4:00 PM to 8:00 PM \nMARGARITA NIGHT\n$1 off our fabulous made from scratch margaritas!
URL:https://barknbrewwi.com/event/margarita-night-4-2021-04-13/
CATEGORIES:Daily Drink Specials
ATTACH;FMTTYPE=image/jpeg:https://barknbrewwi.com/wp-content/uploads/2020/04/DSC_0035-scaled.jpg
END:VEVENT
BEGIN:VEVENT
DTSTART;TZID=America/Chicago:20210408T150000
DTEND;TZID=America/Chicago:20210408T210000
DTSTAMP:20260419T231332
CREATED:20200818T195925Z
LAST-MODIFIED:20210608T135017Z
UID:4624-1617894000-1617915600@barknbrewwi.com
SUMMARY:Thirsty Thursday
DESCRIPTION:THURSDAYS\n2:00 PM to 9:00 PM \nThursday Night Special:  $1 off pints of draft beer!  6 on tap – check them out on Thursdays!
URL:https://barknbrewwi.com/event/thirsty-thursday-2-2021-04-08/
CATEGORIES:Daily Drink Specials
ATTACH;FMTTYPE=image/jpeg:https://barknbrewwi.com/wp-content/uploads/2020/04/pug-beer-scaled.jpg
END:VEVENT
BEGIN:VEVENT
DTSTART;TZID=America/Chicago:20210407T160000
DTEND;TZID=America/Chicago:20210407T200000
DTSTAMP:20260419T231332
CREATED:20200818T200450Z
LAST-MODIFIED:20210608T135113Z
UID:4491-1617811200-1617825600@barknbrewwi.com
SUMMARY:Mid Week Mule Extravaganza
DESCRIPTION:WEDNESDAYS\n4:00 PM to 8:00 PM \nWednesday Night Special:  $1 off – Mid-Week Mule Extravaganza!  Try one of our ever changing\, made from scratch with our house blend mixes Moscow mules – they will not disappoint!
URL:https://barknbrewwi.com/event/mid-week-mule-extravaganza-2-2021-04-07/
CATEGORIES:Daily Drink Specials
ATTACH;FMTTYPE=image/jpeg:https://barknbrewwi.com/wp-content/uploads/2020/04/mule.jpg
END:VEVENT
BEGIN:VEVENT
DTSTART;TZID=America/Chicago:20210406T160000
DTEND;TZID=America/Chicago:20210406T200000
DTSTAMP:20260419T231332
CREATED:20200818T195151Z
LAST-MODIFIED:20210608T135215Z
UID:4511-1617724800-1617739200@barknbrewwi.com
SUMMARY:Margarita Night
DESCRIPTION:TUESDAYS\n4:00 PM to 8:00 PM \nMARGARITA NIGHT\n$1 off our fabulous made from scratch margaritas!
URL:https://barknbrewwi.com/event/margarita-night-4-2021-04-06/
CATEGORIES:Daily Drink Specials
ATTACH;FMTTYPE=image/jpeg:https://barknbrewwi.com/wp-content/uploads/2020/04/DSC_0035-scaled.jpg
END:VEVENT
BEGIN:VEVENT
DTSTART;VALUE=DATE:20210404
DTEND;VALUE=DATE:20210405
DTSTAMP:20260419T231332
CREATED:20210329T163127Z
LAST-MODIFIED:20210329T163127Z
UID:4633-1617494400-1617580799@barknbrewwi.com
SUMMARY:Closed for Easter
DESCRIPTION:
URL:https://barknbrewwi.com/event/closed-for-easter/
ATTACH;FMTTYPE=image/jpeg:https://barknbrewwi.com/wp-content/uploads/2021/03/gettyimages-904007316-1581549849.jpg
END:VEVENT
BEGIN:VEVENT
DTSTART;TZID=America/Chicago:20210401T150000
DTEND;TZID=America/Chicago:20210401T210000
DTSTAMP:20260419T231332
CREATED:20200818T195925Z
LAST-MODIFIED:20210608T135017Z
UID:4623-1617289200-1617310800@barknbrewwi.com
SUMMARY:Thirsty Thursday
DESCRIPTION:THURSDAYS\n2:00 PM to 9:00 PM \nThursday Night Special:  $1 off pints of draft beer!  6 on tap – check them out on Thursdays!
URL:https://barknbrewwi.com/event/thirsty-thursday-2-2021-04-01/
CATEGORIES:Daily Drink Specials
ATTACH;FMTTYPE=image/jpeg:https://barknbrewwi.com/wp-content/uploads/2020/04/pug-beer-scaled.jpg
END:VEVENT
BEGIN:VEVENT
DTSTART;TZID=America/Chicago:20210331T160000
DTEND;TZID=America/Chicago:20210331T200000
DTSTAMP:20260419T231332
CREATED:20200818T200450Z
LAST-MODIFIED:20210608T135113Z
UID:4430-1617206400-1617220800@barknbrewwi.com
SUMMARY:Mid Week Mule Extravaganza
DESCRIPTION:WEDNESDAYS\n4:00 PM to 8:00 PM \nWednesday Night Special:  $1 off – Mid-Week Mule Extravaganza!  Try one of our ever changing\, made from scratch with our house blend mixes Moscow mules – they will not disappoint!
URL:https://barknbrewwi.com/event/mid-week-mule-extravaganza-2-2021-03-31/
CATEGORIES:Daily Drink Specials
ATTACH;FMTTYPE=image/jpeg:https://barknbrewwi.com/wp-content/uploads/2020/04/mule.jpg
END:VEVENT
BEGIN:VEVENT
DTSTART;TZID=America/Chicago:20210330T160000
DTEND;TZID=America/Chicago:20210330T200000
DTSTAMP:20260419T231332
CREATED:20200818T195151Z
LAST-MODIFIED:20210608T135215Z
UID:4439-1617120000-1617134400@barknbrewwi.com
SUMMARY:Margarita Night
DESCRIPTION:TUESDAYS\n4:00 PM to 8:00 PM \nMARGARITA NIGHT\n$1 off our fabulous made from scratch margaritas!
URL:https://barknbrewwi.com/event/margarita-night-4-2021-03-30/
CATEGORIES:Daily Drink Specials
ATTACH;FMTTYPE=image/jpeg:https://barknbrewwi.com/wp-content/uploads/2020/04/DSC_0035-scaled.jpg
END:VEVENT
BEGIN:VEVENT
DTSTART;TZID=America/Chicago:20210327T130000
DTEND;TZID=America/Chicago:20210327T150000
DTSTAMP:20260419T231332
CREATED:20210311T170227Z
LAST-MODIFIED:20210311T170227Z
UID:4590-1616850000-1616857200@barknbrewwi.com
SUMMARY:Bay Burger Food Truck
DESCRIPTION:These burgers are crazy good!! Bring the pup for a day of fun\, enjoy the burger and some amazing drinks!!
URL:https://barknbrewwi.com/event/bay-burger-food-truck-2-2021-03-27/
CATEGORIES:Community Events
ATTACH;FMTTYPE=image/jpeg:https://barknbrewwi.com/wp-content/uploads/2021/02/143304669_1150749925375193_3221809855941690075_n.jpg
END:VEVENT
BEGIN:VEVENT
DTSTART;TZID=America/Chicago:20210325T150000
DTEND;TZID=America/Chicago:20210325T210000
DTSTAMP:20260419T231332
CREATED:20200818T195925Z
LAST-MODIFIED:20210608T135017Z
UID:4622-1616684400-1616706000@barknbrewwi.com
SUMMARY:Thirsty Thursday
DESCRIPTION:THURSDAYS\n2:00 PM to 9:00 PM \nThursday Night Special:  $1 off pints of draft beer!  6 on tap – check them out on Thursdays!
URL:https://barknbrewwi.com/event/thirsty-thursday-2-2021-03-25/
CATEGORIES:Daily Drink Specials
ATTACH;FMTTYPE=image/jpeg:https://barknbrewwi.com/wp-content/uploads/2020/04/pug-beer-scaled.jpg
END:VEVENT
BEGIN:VEVENT
DTSTART;TZID=America/Chicago:20210324T160000
DTEND;TZID=America/Chicago:20210324T200000
DTSTAMP:20260419T231332
CREATED:20200818T200450Z
LAST-MODIFIED:20210608T135113Z
UID:4429-1616601600-1616616000@barknbrewwi.com
SUMMARY:Mid Week Mule Extravaganza
DESCRIPTION:WEDNESDAYS\n4:00 PM to 8:00 PM \nWednesday Night Special:  $1 off – Mid-Week Mule Extravaganza!  Try one of our ever changing\, made from scratch with our house blend mixes Moscow mules – they will not disappoint!
URL:https://barknbrewwi.com/event/mid-week-mule-extravaganza-2-2021-03-24/
CATEGORIES:Daily Drink Specials
ATTACH;FMTTYPE=image/jpeg:https://barknbrewwi.com/wp-content/uploads/2020/04/mule.jpg
END:VEVENT
BEGIN:VEVENT
DTSTART;TZID=America/Chicago:20210323T160000
DTEND;TZID=America/Chicago:20210323T200000
DTSTAMP:20260419T231332
CREATED:20200818T195151Z
LAST-MODIFIED:20210608T135214Z
UID:4438-1616515200-1616529600@barknbrewwi.com
SUMMARY:Margarita Night
DESCRIPTION:TUESDAYS\n4:00 PM to 8:00 PM \nMARGARITA NIGHT\n$1 off our fabulous made from scratch margaritas!
URL:https://barknbrewwi.com/event/margarita-night-4-2021-03-23/
CATEGORIES:Daily Drink Specials
ATTACH;FMTTYPE=image/jpeg:https://barknbrewwi.com/wp-content/uploads/2020/04/DSC_0035-scaled.jpg
END:VEVENT
BEGIN:VEVENT
DTSTART;TZID=America/Chicago:20210320T130000
DTEND;TZID=America/Chicago:20210320T150000
DTSTAMP:20260419T231332
CREATED:20210311T170227Z
LAST-MODIFIED:20210311T170227Z
UID:4589-1616245200-1616252400@barknbrewwi.com
SUMMARY:Bay Burger Food Truck
DESCRIPTION:These burgers are crazy good!! Bring the pup for a day of fun\, enjoy the burger and some amazing drinks!!
URL:https://barknbrewwi.com/event/bay-burger-food-truck-2-2021-03-20/
CATEGORIES:Community Events
ATTACH;FMTTYPE=image/jpeg:https://barknbrewwi.com/wp-content/uploads/2021/02/143304669_1150749925375193_3221809855941690075_n.jpg
END:VEVENT
BEGIN:VEVENT
DTSTART;TZID=America/Chicago:20210318T150000
DTEND;TZID=America/Chicago:20210318T210000
DTSTAMP:20260419T231332
CREATED:20200818T195925Z
LAST-MODIFIED:20210608T135017Z
UID:4621-1616079600-1616101200@barknbrewwi.com
SUMMARY:Thirsty Thursday
DESCRIPTION:THURSDAYS\n2:00 PM to 9:00 PM \nThursday Night Special:  $1 off pints of draft beer!  6 on tap – check them out on Thursdays!
URL:https://barknbrewwi.com/event/thirsty-thursday-2-2021-03-18/
CATEGORIES:Daily Drink Specials
ATTACH;FMTTYPE=image/jpeg:https://barknbrewwi.com/wp-content/uploads/2020/04/pug-beer-scaled.jpg
END:VEVENT
BEGIN:VEVENT
DTSTART;TZID=America/Chicago:20210317T160000
DTEND;TZID=America/Chicago:20210317T200000
DTSTAMP:20260419T231332
CREATED:20200818T200450Z
LAST-MODIFIED:20210608T135112Z
UID:4428-1615996800-1616011200@barknbrewwi.com
SUMMARY:Mid Week Mule Extravaganza
DESCRIPTION:WEDNESDAYS\n4:00 PM to 8:00 PM \nWednesday Night Special:  $1 off – Mid-Week Mule Extravaganza!  Try one of our ever changing\, made from scratch with our house blend mixes Moscow mules – they will not disappoint!
URL:https://barknbrewwi.com/event/mid-week-mule-extravaganza-2-2021-03-17/
CATEGORIES:Daily Drink Specials
ATTACH;FMTTYPE=image/jpeg:https://barknbrewwi.com/wp-content/uploads/2020/04/mule.jpg
END:VEVENT
BEGIN:VEVENT
DTSTART;TZID=America/Chicago:20210316T160000
DTEND;TZID=America/Chicago:20210316T200000
DTSTAMP:20260419T231332
CREATED:20200818T195151Z
LAST-MODIFIED:20210608T135214Z
UID:4437-1615910400-1615924800@barknbrewwi.com
SUMMARY:Margarita Night
DESCRIPTION:TUESDAYS\n4:00 PM to 8:00 PM \nMARGARITA NIGHT\n$1 off our fabulous made from scratch margaritas!
URL:https://barknbrewwi.com/event/margarita-night-4-2021-03-16/
CATEGORIES:Daily Drink Specials
ATTACH;FMTTYPE=image/jpeg:https://barknbrewwi.com/wp-content/uploads/2020/04/DSC_0035-scaled.jpg
END:VEVENT
BEGIN:VEVENT
DTSTART;TZID=America/Chicago:20210315T163000
DTEND;TZID=America/Chicago:20210315T203000
DTSTAMP:20260419T231332
CREATED:20210311T170433Z
LAST-MODIFIED:20210311T170433Z
UID:4591-1615825800-1615840200@barknbrewwi.com
SUMMARY:Small Dog Night
DESCRIPTION:Monday\, March 15th – Small Dog Night from 4:30-8:30 (small dogs only)
URL:https://barknbrewwi.com/event/small-dog-night-2/
CATEGORIES:Community Events
ATTACH;FMTTYPE=image/jpeg:https://barknbrewwi.com/wp-content/uploads/2021/02/144916339_1153832945066891_1781099166047797722_n.jpg
END:VEVENT
BEGIN:VEVENT
DTSTART;TZID=America/Chicago:20210313T130000
DTEND;TZID=America/Chicago:20210313T150000
DTSTAMP:20260419T231332
CREATED:20210311T170227Z
LAST-MODIFIED:20210311T170227Z
UID:4586-1615640400-1615647600@barknbrewwi.com
SUMMARY:Bay Burger Food Truck
DESCRIPTION:These burgers are crazy good!! Bring the pup for a day of fun\, enjoy the burger and some amazing drinks!!
URL:https://barknbrewwi.com/event/bay-burger-food-truck-2/
CATEGORIES:Community Events
ATTACH;FMTTYPE=image/jpeg:https://barknbrewwi.com/wp-content/uploads/2021/02/143304669_1150749925375193_3221809855941690075_n.jpg
END:VEVENT
END:VCALENDAR