BEGIN:VCALENDAR
VERSION:2.0
PRODID:-//Bark &amp; Brew - ECPv6.15.20//NONSGML v1.0//EN
CALSCALE:GREGORIAN
METHOD:PUBLISH
X-WR-CALNAME:Bark &amp; Brew
X-ORIGINAL-URL:https://barknbrewwi.com
X-WR-CALDESC:Events for Bark &amp; Brew
REFRESH-INTERVAL;VALUE=DURATION:PT1H
X-Robots-Tag:noindex
X-PUBLISHED-TTL:PT1H
BEGIN:VTIMEZONE
TZID:America/Chicago
BEGIN:DAYLIGHT
TZOFFSETFROM:-0600
TZOFFSETTO:-0500
TZNAME:CDT
DTSTART:20190310T080000
END:DAYLIGHT
BEGIN:STANDARD
TZOFFSETFROM:-0500
TZOFFSETTO:-0600
TZNAME:CST
DTSTART:20191103T070000
END:STANDARD
BEGIN:DAYLIGHT
TZOFFSETFROM:-0600
TZOFFSETTO:-0500
TZNAME:CDT
DTSTART:20200308T080000
END:DAYLIGHT
BEGIN:STANDARD
TZOFFSETFROM:-0500
TZOFFSETTO:-0600
TZNAME:CST
DTSTART:20201101T070000
END:STANDARD
BEGIN:DAYLIGHT
TZOFFSETFROM:-0600
TZOFFSETTO:-0500
TZNAME:CDT
DTSTART:20210314T080000
END:DAYLIGHT
BEGIN:STANDARD
TZOFFSETFROM:-0500
TZOFFSETTO:-0600
TZNAME:CST
DTSTART:20211107T070000
END:STANDARD
END:VTIMEZONE
BEGIN:VEVENT
DTSTART;TZID=America/Chicago:20200222T090000
DTEND;TZID=America/Chicago:20200222T100000
DTSTAMP:20260425T073456
CREATED:20200211T173758Z
LAST-MODIFIED:20200818T194530Z
UID:494-1582362000-1582365600@barknbrewwi.com
SUMMARY:Yoga With Your Dog
DESCRIPTION:Yoga\, your dog and a beverage to start your Saturday – is there anything better?! \nJoin us on Saturday\, February 22nd for Yoga With Your Dog hosted by Bark & Brew and Nicky Brown leading the yoga session. Bring your dog(s)\, mat and other yoga goodies and we’ll take care of the rest. Dog Butlers on staff that morning to assist with occupying the dogs as you participate and a refreshing mimosa or glass of beer when you finish. Complimentary Bark & Brew headband\, mimosa or glass of beer\, hour long yoga session and exercise /interaction for your pup are included with your ticket purchase. \n  \n BUY TICKETS\n 
URL:https://barknbrewwi.com/event/yoga-with-your-dog/
CATEGORIES:Community Events
ATTACH;FMTTYPE=image/jpeg:https://barknbrewwi.com/wp-content/uploads/2020/02/yoga.jpg
END:VEVENT
BEGIN:VEVENT
DTSTART;VALUE=DATE:20200201
DTEND;VALUE=DATE:20200215
DTSTAMP:20260425T073456
CREATED:20200129T145855Z
LAST-MODIFIED:20200818T194852Z
UID:444-1580515200-1581724799@barknbrewwi.com
SUMMARY:My Valentine Has 4 Paws
DESCRIPTION:Don’t leave your furry valentine at home\, bring them out to celebrate (if celebrating Valentine’s Day is your thing) We’ll have our Chocolate Covered Strawberry drink on special and of coarse our full line up of new specialty drinks starting February 1st!\nP’Nut Butter Hot Chocolate $7.00\nSkrewball Peanut-Butter Whiskey & Hot Chocolate \nButterfinger-Tini $9.00\nVanilla Vodka\, Butterscotch Schnapps\, Kahlua\, Cream \nLeslie Gracie $9.50\nHendrick’s Gin\, St. Germain Elderflower Liqueur\, Tonic Water\, Cucumber Slice \nBourbon “Cutie” Smash $8.50\nMuddled cutie (Mandarin orange)\, Cherries\, sugar cube with bitters\, Bourbon\, Grand Marnier\, Cutie Juice\, Seltzer \nValentine Weekend Only 2/14 – 2/16\nChocolate Covered Strawberry $8.50\nStrawberry Vodka\, Crème De Cocoa\, Strawberry Puree\, Cream
URL:https://barknbrewwi.com/event/my-valentine-has-4-paws/
CATEGORIES:Community Events
ATTACH;FMTTYPE=image/jpeg:https://barknbrewwi.com/wp-content/uploads/2020/01/valentines.jpg
END:VEVENT
END:VCALENDAR