BEGIN:VCALENDAR
VERSION:2.0
PRODID:-//Bark &amp; Brew - ECPv6.15.20//NONSGML v1.0//EN
CALSCALE:GREGORIAN
METHOD:PUBLISH
X-WR-CALNAME:Bark &amp; Brew
X-ORIGINAL-URL:https://barknbrewwi.com
X-WR-CALDESC:Events for Bark &amp; Brew
REFRESH-INTERVAL;VALUE=DURATION:PT1H
X-Robots-Tag:noindex
X-PUBLISHED-TTL:PT1H
BEGIN:VTIMEZONE
TZID:America/Chicago
BEGIN:DAYLIGHT
TZOFFSETFROM:-0600
TZOFFSETTO:-0500
TZNAME:CDT
DTSTART:20190310T080000
END:DAYLIGHT
BEGIN:STANDARD
TZOFFSETFROM:-0500
TZOFFSETTO:-0600
TZNAME:CST
DTSTART:20191103T070000
END:STANDARD
BEGIN:DAYLIGHT
TZOFFSETFROM:-0600
TZOFFSETTO:-0500
TZNAME:CDT
DTSTART:20200308T080000
END:DAYLIGHT
BEGIN:STANDARD
TZOFFSETFROM:-0500
TZOFFSETTO:-0600
TZNAME:CST
DTSTART:20201101T070000
END:STANDARD
BEGIN:DAYLIGHT
TZOFFSETFROM:-0600
TZOFFSETTO:-0500
TZNAME:CDT
DTSTART:20210314T080000
END:DAYLIGHT
BEGIN:STANDARD
TZOFFSETFROM:-0500
TZOFFSETTO:-0600
TZNAME:CST
DTSTART:20211107T070000
END:STANDARD
END:VTIMEZONE
BEGIN:VEVENT
DTSTART;TZID=America/Chicago:20201112T150000
DTEND;TZID=America/Chicago:20201112T210000
DTSTAMP:20260420T065909
CREATED:20200818T195925Z
LAST-MODIFIED:20210608T135012Z
UID:4603-1605193200-1605214800@barknbrewwi.com
SUMMARY:Thirsty Thursday
DESCRIPTION:THURSDAYS\n2:00 PM to 9:00 PM \nThursday Night Special:  $1 off pints of draft beer!  6 on tap – check them out on Thursdays!
URL:https://barknbrewwi.com/event/thirsty-thursday-2-2020-11-12/
CATEGORIES:Daily Drink Specials
ATTACH;FMTTYPE=image/jpeg:https://barknbrewwi.com/wp-content/uploads/2020/04/pug-beer-scaled.jpg
END:VEVENT
BEGIN:VEVENT
DTSTART;TZID=America/Chicago:20201111T160000
DTEND;TZID=America/Chicago:20201111T200000
DTSTAMP:20260420T065909
CREATED:20200818T200450Z
LAST-MODIFIED:20210608T135108Z
UID:4410-1605110400-1605124800@barknbrewwi.com
SUMMARY:Mid Week Mule Extravaganza
DESCRIPTION:WEDNESDAYS\n4:00 PM to 8:00 PM \nWednesday Night Special:  $1 off – Mid-Week Mule Extravaganza!  Try one of our ever changing\, made from scratch with our house blend mixes Moscow mules – they will not disappoint!
URL:https://barknbrewwi.com/event/mid-week-mule-extravaganza-2-2020-11-11/
CATEGORIES:Daily Drink Specials
ATTACH;FMTTYPE=image/jpeg:https://barknbrewwi.com/wp-content/uploads/2020/04/mule.jpg
END:VEVENT
BEGIN:VEVENT
DTSTART;TZID=America/Chicago:20201110T160000
DTEND;TZID=America/Chicago:20201110T200000
DTSTAMP:20260420T065909
CREATED:20200818T195151Z
LAST-MODIFIED:20210608T135210Z
UID:4226-1605024000-1605038400@barknbrewwi.com
SUMMARY:Margarita Night
DESCRIPTION:TUESDAYS\n4:00 PM to 8:00 PM \nMARGARITA NIGHT\n$1 off our fabulous made from scratch margaritas!
URL:https://barknbrewwi.com/event/margarita-night-4-2020-11-10/
CATEGORIES:Daily Drink Specials
ATTACH;FMTTYPE=image/jpeg:https://barknbrewwi.com/wp-content/uploads/2020/04/DSC_0035-scaled.jpg
END:VEVENT
BEGIN:VEVENT
DTSTART;TZID=America/Chicago:20201105T150000
DTEND;TZID=America/Chicago:20201105T210000
DTSTAMP:20260420T065909
CREATED:20200818T195925Z
LAST-MODIFIED:20210608T135012Z
UID:4602-1604588400-1604610000@barknbrewwi.com
SUMMARY:Thirsty Thursday
DESCRIPTION:THURSDAYS\n2:00 PM to 9:00 PM \nThursday Night Special:  $1 off pints of draft beer!  6 on tap – check them out on Thursdays!
URL:https://barknbrewwi.com/event/thirsty-thursday-2-2020-11-05/
CATEGORIES:Daily Drink Specials
ATTACH;FMTTYPE=image/jpeg:https://barknbrewwi.com/wp-content/uploads/2020/04/pug-beer-scaled.jpg
END:VEVENT
BEGIN:VEVENT
DTSTART;TZID=America/Chicago:20201104T160000
DTEND;TZID=America/Chicago:20201104T200000
DTSTAMP:20260420T065909
CREATED:20200818T200450Z
LAST-MODIFIED:20210608T135108Z
UID:4409-1604505600-1604520000@barknbrewwi.com
SUMMARY:Mid Week Mule Extravaganza
DESCRIPTION:WEDNESDAYS\n4:00 PM to 8:00 PM \nWednesday Night Special:  $1 off – Mid-Week Mule Extravaganza!  Try one of our ever changing\, made from scratch with our house blend mixes Moscow mules – they will not disappoint!
URL:https://barknbrewwi.com/event/mid-week-mule-extravaganza-2-2020-11-04/
CATEGORIES:Daily Drink Specials
ATTACH;FMTTYPE=image/jpeg:https://barknbrewwi.com/wp-content/uploads/2020/04/mule.jpg
END:VEVENT
BEGIN:VEVENT
DTSTART;TZID=America/Chicago:20201103T160000
DTEND;TZID=America/Chicago:20201103T200000
DTSTAMP:20260420T065909
CREATED:20200818T195151Z
LAST-MODIFIED:20210608T135210Z
UID:4225-1604419200-1604433600@barknbrewwi.com
SUMMARY:Margarita Night
DESCRIPTION:TUESDAYS\n4:00 PM to 8:00 PM \nMARGARITA NIGHT\n$1 off our fabulous made from scratch margaritas!
URL:https://barknbrewwi.com/event/margarita-night-4-2020-11-03/
CATEGORIES:Daily Drink Specials
ATTACH;FMTTYPE=image/jpeg:https://barknbrewwi.com/wp-content/uploads/2020/04/DSC_0035-scaled.jpg
END:VEVENT
BEGIN:VEVENT
DTSTART;TZID=America/Chicago:20201029T150000
DTEND;TZID=America/Chicago:20201029T210000
DTSTAMP:20260420T065909
CREATED:20200818T195925Z
LAST-MODIFIED:20210608T135012Z
UID:4601-1603983600-1604005200@barknbrewwi.com
SUMMARY:Thirsty Thursday
DESCRIPTION:THURSDAYS\n2:00 PM to 9:00 PM \nThursday Night Special:  $1 off pints of draft beer!  6 on tap – check them out on Thursdays!
URL:https://barknbrewwi.com/event/thirsty-thursday-2-2020-10-29/
CATEGORIES:Daily Drink Specials
ATTACH;FMTTYPE=image/jpeg:https://barknbrewwi.com/wp-content/uploads/2020/04/pug-beer-scaled.jpg
END:VEVENT
BEGIN:VEVENT
DTSTART;TZID=America/Chicago:20201028T160000
DTEND;TZID=America/Chicago:20201028T200000
DTSTAMP:20260420T065909
CREATED:20200818T200450Z
LAST-MODIFIED:20210608T135108Z
UID:4408-1603900800-1603915200@barknbrewwi.com
SUMMARY:Mid Week Mule Extravaganza
DESCRIPTION:WEDNESDAYS\n4:00 PM to 8:00 PM \nWednesday Night Special:  $1 off – Mid-Week Mule Extravaganza!  Try one of our ever changing\, made from scratch with our house blend mixes Moscow mules – they will not disappoint!
URL:https://barknbrewwi.com/event/mid-week-mule-extravaganza-2-2020-10-28/
CATEGORIES:Daily Drink Specials
ATTACH;FMTTYPE=image/jpeg:https://barknbrewwi.com/wp-content/uploads/2020/04/mule.jpg
END:VEVENT
BEGIN:VEVENT
DTSTART;TZID=America/Chicago:20201027T160000
DTEND;TZID=America/Chicago:20201027T200000
DTSTAMP:20260420T065909
CREATED:20200818T195151Z
LAST-MODIFIED:20210608T135210Z
UID:4224-1603814400-1603828800@barknbrewwi.com
SUMMARY:Margarita Night
DESCRIPTION:TUESDAYS\n4:00 PM to 8:00 PM \nMARGARITA NIGHT\n$1 off our fabulous made from scratch margaritas!
URL:https://barknbrewwi.com/event/margarita-night-4-2020-10-27/
CATEGORIES:Daily Drink Specials
ATTACH;FMTTYPE=image/jpeg:https://barknbrewwi.com/wp-content/uploads/2020/04/DSC_0035-scaled.jpg
END:VEVENT
BEGIN:VEVENT
DTSTART;TZID=America/Chicago:20201026T070000
DTEND;TZID=America/Chicago:20201026T180000
DTSTAMP:20260420T065909
CREATED:20201020T160746Z
LAST-MODIFIED:20201020T160746Z
UID:4235-1603695600-1603735200@barknbrewwi.com
SUMMARY:Play N' Learn Drop In Daycare Day
DESCRIPTION:Bring your pup for a day of fun with their friends and staff!  They will leave happy and tired 🙂
URL:https://barknbrewwi.com/event/play-n-learn-drop-in-daycare-day/
LOCATION:Bark & Brew\, 2514 Glendale Ave\, Green Bay\, WI\, 54313\, United States
ORGANIZER;CN="Bark & Brew":MAILTO:tara@barknbrewwi.com
END:VEVENT
BEGIN:VEVENT
DTSTART;TZID=America/Chicago:20201022T150000
DTEND;TZID=America/Chicago:20201022T210000
DTSTAMP:20260420T065909
CREATED:20200818T195925Z
LAST-MODIFIED:20210608T135012Z
UID:4600-1603378800-1603400400@barknbrewwi.com
SUMMARY:Thirsty Thursday
DESCRIPTION:THURSDAYS\n2:00 PM to 9:00 PM \nThursday Night Special:  $1 off pints of draft beer!  6 on tap – check them out on Thursdays!
URL:https://barknbrewwi.com/event/thirsty-thursday-2-2020-10-22/
CATEGORIES:Daily Drink Specials
ATTACH;FMTTYPE=image/jpeg:https://barknbrewwi.com/wp-content/uploads/2020/04/pug-beer-scaled.jpg
END:VEVENT
BEGIN:VEVENT
DTSTART;TZID=America/Chicago:20201021T160000
DTEND;TZID=America/Chicago:20201021T200000
DTSTAMP:20260420T065909
CREATED:20200818T200450Z
LAST-MODIFIED:20210608T135108Z
UID:4407-1603296000-1603310400@barknbrewwi.com
SUMMARY:Mid Week Mule Extravaganza
DESCRIPTION:WEDNESDAYS\n4:00 PM to 8:00 PM \nWednesday Night Special:  $1 off – Mid-Week Mule Extravaganza!  Try one of our ever changing\, made from scratch with our house blend mixes Moscow mules – they will not disappoint!
URL:https://barknbrewwi.com/event/mid-week-mule-extravaganza-2-2020-10-21/
CATEGORIES:Daily Drink Specials
ATTACH;FMTTYPE=image/jpeg:https://barknbrewwi.com/wp-content/uploads/2020/04/mule.jpg
END:VEVENT
BEGIN:VEVENT
DTSTART;TZID=America/Chicago:20201020T160000
DTEND;TZID=America/Chicago:20201020T200000
DTSTAMP:20260420T065909
CREATED:20200818T195151Z
LAST-MODIFIED:20210608T135210Z
UID:4223-1603209600-1603224000@barknbrewwi.com
SUMMARY:Margarita Night
DESCRIPTION:TUESDAYS\n4:00 PM to 8:00 PM \nMARGARITA NIGHT\n$1 off our fabulous made from scratch margaritas!
URL:https://barknbrewwi.com/event/margarita-night-4-2020-10-20/
CATEGORIES:Daily Drink Specials
ATTACH;FMTTYPE=image/jpeg:https://barknbrewwi.com/wp-content/uploads/2020/04/DSC_0035-scaled.jpg
END:VEVENT
BEGIN:VEVENT
DTSTART;TZID=America/Chicago:20201016T170000
DTEND;TZID=America/Chicago:20201016T200000
DTSTAMP:20260420T065909
CREATED:20200831T185315Z
LAST-MODIFIED:20200911T203545Z
UID:4079-1602867600-1602878400@barknbrewwi.com
SUMMARY:Oley's Pepperoni Cannoli Wood Fired Pizza Food Truck
DESCRIPTION:Local\, authentic\, natural wood fired pizza and more!  Bring the pups for a day of fun\, have some amazing made to order pizza and enjoy some delicious handcrafted cocktails.
URL:https://barknbrewwi.com/event/oleys-pepperoni-cannoli-wood-fired-pizza-food-truck-2/
LOCATION:Bark & Brew\, 2514 Glendale Ave\, Green Bay\, WI\, 54313\, United States
ATTACH;FMTTYPE=image/jpeg:https://barknbrewwi.com/wp-content/uploads/2020/08/oleys.jpg
ORGANIZER;CN="Bark & Brew":MAILTO:tara@barknbrewwi.com
END:VEVENT
BEGIN:VEVENT
DTSTART;TZID=America/Chicago:20201015T150000
DTEND;TZID=America/Chicago:20201015T210000
DTSTAMP:20260420T065909
CREATED:20200818T195925Z
LAST-MODIFIED:20210608T135012Z
UID:4599-1602774000-1602795600@barknbrewwi.com
SUMMARY:Thirsty Thursday
DESCRIPTION:THURSDAYS\n2:00 PM to 9:00 PM \nThursday Night Special:  $1 off pints of draft beer!  6 on tap – check them out on Thursdays!
URL:https://barknbrewwi.com/event/thirsty-thursday-2-2020-10-15/
CATEGORIES:Daily Drink Specials
ATTACH;FMTTYPE=image/jpeg:https://barknbrewwi.com/wp-content/uploads/2020/04/pug-beer-scaled.jpg
END:VEVENT
BEGIN:VEVENT
DTSTART;TZID=America/Chicago:20201014T160000
DTEND;TZID=America/Chicago:20201014T200000
DTSTAMP:20260420T065909
CREATED:20200818T200450Z
LAST-MODIFIED:20210608T135108Z
UID:4406-1602691200-1602705600@barknbrewwi.com
SUMMARY:Mid Week Mule Extravaganza
DESCRIPTION:WEDNESDAYS\n4:00 PM to 8:00 PM \nWednesday Night Special:  $1 off – Mid-Week Mule Extravaganza!  Try one of our ever changing\, made from scratch with our house blend mixes Moscow mules – they will not disappoint!
URL:https://barknbrewwi.com/event/mid-week-mule-extravaganza-2-2020-10-14/
CATEGORIES:Daily Drink Specials
ATTACH;FMTTYPE=image/jpeg:https://barknbrewwi.com/wp-content/uploads/2020/04/mule.jpg
END:VEVENT
BEGIN:VEVENT
DTSTART;TZID=America/Chicago:20201013T160000
DTEND;TZID=America/Chicago:20201013T200000
DTSTAMP:20260420T065909
CREATED:20200818T195151Z
LAST-MODIFIED:20210608T135210Z
UID:4222-1602604800-1602619200@barknbrewwi.com
SUMMARY:Margarita Night
DESCRIPTION:TUESDAYS\n4:00 PM to 8:00 PM \nMARGARITA NIGHT\n$1 off our fabulous made from scratch margaritas!
URL:https://barknbrewwi.com/event/margarita-night-4-2020-10-13/
CATEGORIES:Daily Drink Specials
ATTACH;FMTTYPE=image/jpeg:https://barknbrewwi.com/wp-content/uploads/2020/04/DSC_0035-scaled.jpg
END:VEVENT
BEGIN:VEVENT
DTSTART;TZID=America/Chicago:20201010T140000
DTEND;TZID=America/Chicago:20201010T180000
DTSTAMP:20260420T065909
CREATED:20200828T172758Z
LAST-MODIFIED:20200911T203644Z
UID:4075-1602338400-1602352800@barknbrewwi.com
SUMMARY:Halloween Pawty
DESCRIPTION:More details to come BUT save the date!! \n 
URL:https://barknbrewwi.com/event/halloween-pawty/
LOCATION:Bark & Brew\, 2514 Glendale Ave\, Green Bay\, WI\, 54313\, United States
ATTACH;FMTTYPE=image/jpeg:https://barknbrewwi.com/wp-content/uploads/2020/02/DSC_0536-scaled.jpg
ORGANIZER;CN="Bark & Brew":MAILTO:tara@barknbrewwi.com
END:VEVENT
BEGIN:VEVENT
DTSTART;TZID=America/Chicago:20201008T150000
DTEND;TZID=America/Chicago:20201008T210000
DTSTAMP:20260420T065909
CREATED:20200818T195925Z
LAST-MODIFIED:20210608T135012Z
UID:4598-1602169200-1602190800@barknbrewwi.com
SUMMARY:Thirsty Thursday
DESCRIPTION:THURSDAYS\n2:00 PM to 9:00 PM \nThursday Night Special:  $1 off pints of draft beer!  6 on tap – check them out on Thursdays!
URL:https://barknbrewwi.com/event/thirsty-thursday-2-2020-10-08/
CATEGORIES:Daily Drink Specials
ATTACH;FMTTYPE=image/jpeg:https://barknbrewwi.com/wp-content/uploads/2020/04/pug-beer-scaled.jpg
END:VEVENT
BEGIN:VEVENT
DTSTART;TZID=America/Chicago:20201007T160000
DTEND;TZID=America/Chicago:20201007T200000
DTSTAMP:20260420T065909
CREATED:20200818T200450Z
LAST-MODIFIED:20210608T135108Z
UID:4405-1602086400-1602100800@barknbrewwi.com
SUMMARY:Mid Week Mule Extravaganza
DESCRIPTION:WEDNESDAYS\n4:00 PM to 8:00 PM \nWednesday Night Special:  $1 off – Mid-Week Mule Extravaganza!  Try one of our ever changing\, made from scratch with our house blend mixes Moscow mules – they will not disappoint!
URL:https://barknbrewwi.com/event/mid-week-mule-extravaganza-2-2020-10-07/
CATEGORIES:Daily Drink Specials
ATTACH;FMTTYPE=image/jpeg:https://barknbrewwi.com/wp-content/uploads/2020/04/mule.jpg
END:VEVENT
BEGIN:VEVENT
DTSTART;TZID=America/Chicago:20201006T160000
DTEND;TZID=America/Chicago:20201006T200000
DTSTAMP:20260420T065909
CREATED:20200818T195151Z
LAST-MODIFIED:20210608T135209Z
UID:4107-1602000000-1602014400@barknbrewwi.com
SUMMARY:Margarita Night
DESCRIPTION:TUESDAYS\n4:00 PM to 8:00 PM \nMARGARITA NIGHT\n$1 off our fabulous made from scratch margaritas!
URL:https://barknbrewwi.com/event/margarita-night-4-2020-10-06/
CATEGORIES:Daily Drink Specials
ATTACH;FMTTYPE=image/jpeg:https://barknbrewwi.com/wp-content/uploads/2020/04/DSC_0035-scaled.jpg
END:VEVENT
BEGIN:VEVENT
DTSTART;TZID=America/Chicago:20201001T150000
DTEND;TZID=America/Chicago:20201001T210000
DTSTAMP:20260420T065909
CREATED:20200818T195925Z
LAST-MODIFIED:20210608T135012Z
UID:4597-1601564400-1601586000@barknbrewwi.com
SUMMARY:Thirsty Thursday
DESCRIPTION:THURSDAYS\n2:00 PM to 9:00 PM \nThursday Night Special:  $1 off pints of draft beer!  6 on tap – check them out on Thursdays!
URL:https://barknbrewwi.com/event/thirsty-thursday-2-2020-10-01/
CATEGORIES:Daily Drink Specials
ATTACH;FMTTYPE=image/jpeg:https://barknbrewwi.com/wp-content/uploads/2020/04/pug-beer-scaled.jpg
END:VEVENT
BEGIN:VEVENT
DTSTART;TZID=America/Chicago:20200930T160000
DTEND;TZID=America/Chicago:20200930T200000
DTSTAMP:20260420T065909
CREATED:20200818T200450Z
LAST-MODIFIED:20210608T135107Z
UID:4404-1601481600-1601496000@barknbrewwi.com
SUMMARY:Mid Week Mule Extravaganza
DESCRIPTION:WEDNESDAYS\n4:00 PM to 8:00 PM \nWednesday Night Special:  $1 off – Mid-Week Mule Extravaganza!  Try one of our ever changing\, made from scratch with our house blend mixes Moscow mules – they will not disappoint!
URL:https://barknbrewwi.com/event/mid-week-mule-extravaganza-2-2020-09-30/
CATEGORIES:Daily Drink Specials
ATTACH;FMTTYPE=image/jpeg:https://barknbrewwi.com/wp-content/uploads/2020/04/mule.jpg
END:VEVENT
BEGIN:VEVENT
DTSTART;TZID=America/Chicago:20200929T160000
DTEND;TZID=America/Chicago:20200929T200000
DTSTAMP:20260420T065909
CREATED:20200818T195151Z
LAST-MODIFIED:20210608T135209Z
UID:4106-1601395200-1601409600@barknbrewwi.com
SUMMARY:Margarita Night
DESCRIPTION:TUESDAYS\n4:00 PM to 8:00 PM \nMARGARITA NIGHT\n$1 off our fabulous made from scratch margaritas!
URL:https://barknbrewwi.com/event/margarita-night-4-2020-09-29/
CATEGORIES:Daily Drink Specials
ATTACH;FMTTYPE=image/jpeg:https://barknbrewwi.com/wp-content/uploads/2020/04/DSC_0035-scaled.jpg
END:VEVENT
BEGIN:VEVENT
DTSTART;TZID=America/Chicago:20200927T140000
DTEND;TZID=America/Chicago:20200927T170000
DTSTAMP:20260420T065909
CREATED:20200831T185128Z
LAST-MODIFIED:20200911T203558Z
UID:4077-1601215200-1601226000@barknbrewwi.com
SUMMARY:Oley's Pepperoni Cannoli Wood Fired Pizza Food Truck
DESCRIPTION:Local\, authentic\, natural wood fired pizza and more!  Bring the pups for a day of fun\, have some amazing made to order pizza and enjoy some delicious handcrafted cocktails.
URL:https://barknbrewwi.com/event/oleys-pepperoni-cannoli-wood-fired-pizza-food-truck/
LOCATION:Bark & Brew\, 2514 Glendale Ave\, Green Bay\, WI\, 54313\, United States
ATTACH;FMTTYPE=image/jpeg:https://barknbrewwi.com/wp-content/uploads/2020/08/oleys.jpg
ORGANIZER;CN="Bark & Brew":MAILTO:tara@barknbrewwi.com
END:VEVENT
BEGIN:VEVENT
DTSTART;TZID=America/Chicago:20200924T150000
DTEND;TZID=America/Chicago:20200924T210000
DTSTAMP:20260420T065909
CREATED:20200818T195925Z
LAST-MODIFIED:20210608T135012Z
UID:4596-1600959600-1600981200@barknbrewwi.com
SUMMARY:Thirsty Thursday
DESCRIPTION:THURSDAYS\n2:00 PM to 9:00 PM \nThursday Night Special:  $1 off pints of draft beer!  6 on tap – check them out on Thursdays!
URL:https://barknbrewwi.com/event/thirsty-thursday-2-2020-09-24/
CATEGORIES:Daily Drink Specials
ATTACH;FMTTYPE=image/jpeg:https://barknbrewwi.com/wp-content/uploads/2020/04/pug-beer-scaled.jpg
END:VEVENT
BEGIN:VEVENT
DTSTART;TZID=America/Chicago:20200923T160000
DTEND;TZID=America/Chicago:20200923T200000
DTSTAMP:20260420T065909
CREATED:20200818T200450Z
LAST-MODIFIED:20210608T135107Z
UID:4403-1600876800-1600891200@barknbrewwi.com
SUMMARY:Mid Week Mule Extravaganza
DESCRIPTION:WEDNESDAYS\n4:00 PM to 8:00 PM \nWednesday Night Special:  $1 off – Mid-Week Mule Extravaganza!  Try one of our ever changing\, made from scratch with our house blend mixes Moscow mules – they will not disappoint!
URL:https://barknbrewwi.com/event/mid-week-mule-extravaganza-2-2020-09-23/
CATEGORIES:Daily Drink Specials
ATTACH;FMTTYPE=image/jpeg:https://barknbrewwi.com/wp-content/uploads/2020/04/mule.jpg
END:VEVENT
BEGIN:VEVENT
DTSTART;TZID=America/Chicago:20200922T160000
DTEND;TZID=America/Chicago:20200922T200000
DTSTAMP:20260420T065909
CREATED:20200818T195151Z
LAST-MODIFIED:20210608T135208Z
UID:4105-1600790400-1600804800@barknbrewwi.com
SUMMARY:Margarita Night
DESCRIPTION:TUESDAYS\n4:00 PM to 8:00 PM \nMARGARITA NIGHT\n$1 off our fabulous made from scratch margaritas!
URL:https://barknbrewwi.com/event/margarita-night-4-2020-09-22/
CATEGORIES:Daily Drink Specials
ATTACH;FMTTYPE=image/jpeg:https://barknbrewwi.com/wp-content/uploads/2020/04/DSC_0035-scaled.jpg
END:VEVENT
BEGIN:VEVENT
DTSTART;TZID=America/Chicago:20200917T150000
DTEND;TZID=America/Chicago:20200917T210000
DTSTAMP:20260420T065909
CREATED:20200818T195925Z
LAST-MODIFIED:20210608T135011Z
UID:4595-1600354800-1600376400@barknbrewwi.com
SUMMARY:Thirsty Thursday
DESCRIPTION:THURSDAYS\n2:00 PM to 9:00 PM \nThursday Night Special:  $1 off pints of draft beer!  6 on tap – check them out on Thursdays!
URL:https://barknbrewwi.com/event/thirsty-thursday-2-2020-09-17/
CATEGORIES:Daily Drink Specials
ATTACH;FMTTYPE=image/jpeg:https://barknbrewwi.com/wp-content/uploads/2020/04/pug-beer-scaled.jpg
END:VEVENT
BEGIN:VEVENT
DTSTART;TZID=America/Chicago:20200916T160000
DTEND;TZID=America/Chicago:20200916T200000
DTSTAMP:20260420T065909
CREATED:20200818T200450Z
LAST-MODIFIED:20210608T135107Z
UID:4402-1600272000-1600286400@barknbrewwi.com
SUMMARY:Mid Week Mule Extravaganza
DESCRIPTION:WEDNESDAYS\n4:00 PM to 8:00 PM \nWednesday Night Special:  $1 off – Mid-Week Mule Extravaganza!  Try one of our ever changing\, made from scratch with our house blend mixes Moscow mules – they will not disappoint!
URL:https://barknbrewwi.com/event/mid-week-mule-extravaganza-2-2020-09-16/
CATEGORIES:Daily Drink Specials
ATTACH;FMTTYPE=image/jpeg:https://barknbrewwi.com/wp-content/uploads/2020/04/mule.jpg
END:VEVENT
END:VCALENDAR