BEGIN:VCALENDAR
VERSION:2.0
PRODID:-//Bark &amp; Brew - ECPv6.15.20//NONSGML v1.0//EN
CALSCALE:GREGORIAN
METHOD:PUBLISH
X-WR-CALNAME:Bark &amp; Brew
X-ORIGINAL-URL:https://barknbrewwi.com
X-WR-CALDESC:Events for Bark &amp; Brew
REFRESH-INTERVAL;VALUE=DURATION:PT1H
X-Robots-Tag:noindex
X-PUBLISHED-TTL:PT1H
BEGIN:VTIMEZONE
TZID:America/Chicago
BEGIN:DAYLIGHT
TZOFFSETFROM:-0600
TZOFFSETTO:-0500
TZNAME:CDT
DTSTART:20190310T080000
END:DAYLIGHT
BEGIN:STANDARD
TZOFFSETFROM:-0500
TZOFFSETTO:-0600
TZNAME:CST
DTSTART:20191103T070000
END:STANDARD
BEGIN:DAYLIGHT
TZOFFSETFROM:-0600
TZOFFSETTO:-0500
TZNAME:CDT
DTSTART:20200308T080000
END:DAYLIGHT
BEGIN:STANDARD
TZOFFSETFROM:-0500
TZOFFSETTO:-0600
TZNAME:CST
DTSTART:20201101T070000
END:STANDARD
BEGIN:DAYLIGHT
TZOFFSETFROM:-0600
TZOFFSETTO:-0500
TZNAME:CDT
DTSTART:20210314T080000
END:DAYLIGHT
BEGIN:STANDARD
TZOFFSETFROM:-0500
TZOFFSETTO:-0600
TZNAME:CST
DTSTART:20211107T070000
END:STANDARD
END:VTIMEZONE
BEGIN:VEVENT
DTSTART;TZID=America/Chicago:20200915T160000
DTEND;TZID=America/Chicago:20200915T200000
DTSTAMP:20260420T134829
CREATED:20200818T195151Z
LAST-MODIFIED:20210608T135208Z
UID:4104-1600185600-1600200000@barknbrewwi.com
SUMMARY:Margarita Night
DESCRIPTION:TUESDAYS\n4:00 PM to 8:00 PM \nMARGARITA NIGHT\n$1 off our fabulous made from scratch margaritas!
URL:https://barknbrewwi.com/event/margarita-night-4-2020-09-15/
CATEGORIES:Daily Drink Specials
ATTACH;FMTTYPE=image/jpeg:https://barknbrewwi.com/wp-content/uploads/2020/04/DSC_0035-scaled.jpg
END:VEVENT
BEGIN:VEVENT
DTSTART;TZID=America/Chicago:20200910T150000
DTEND;TZID=America/Chicago:20200910T210000
DTSTAMP:20260420T134829
CREATED:20200818T195925Z
LAST-MODIFIED:20210608T135010Z
UID:4594-1599750000-1599771600@barknbrewwi.com
SUMMARY:Thirsty Thursday
DESCRIPTION:THURSDAYS\n2:00 PM to 9:00 PM \nThursday Night Special:  $1 off pints of draft beer!  6 on tap – check them out on Thursdays!
URL:https://barknbrewwi.com/event/thirsty-thursday-2-2020-09-10/
CATEGORIES:Daily Drink Specials
ATTACH;FMTTYPE=image/jpeg:https://barknbrewwi.com/wp-content/uploads/2020/04/pug-beer-scaled.jpg
END:VEVENT
BEGIN:VEVENT
DTSTART;TZID=America/Chicago:20200909T160000
DTEND;TZID=America/Chicago:20200909T200000
DTSTAMP:20260420T134829
CREATED:20200818T200450Z
LAST-MODIFIED:20210608T135106Z
UID:4401-1599667200-1599681600@barknbrewwi.com
SUMMARY:Mid Week Mule Extravaganza
DESCRIPTION:WEDNESDAYS\n4:00 PM to 8:00 PM \nWednesday Night Special:  $1 off – Mid-Week Mule Extravaganza!  Try one of our ever changing\, made from scratch with our house blend mixes Moscow mules – they will not disappoint!
URL:https://barknbrewwi.com/event/mid-week-mule-extravaganza-2-2020-09-09/
CATEGORIES:Daily Drink Specials
ATTACH;FMTTYPE=image/jpeg:https://barknbrewwi.com/wp-content/uploads/2020/04/mule.jpg
END:VEVENT
BEGIN:VEVENT
DTSTART;TZID=America/Chicago:20200908T160000
DTEND;TZID=America/Chicago:20200908T200000
DTSTAMP:20260420T134829
CREATED:20200818T195151Z
LAST-MODIFIED:20210608T135202Z
UID:4046-1599580800-1599595200@barknbrewwi.com
SUMMARY:Margarita Night
DESCRIPTION:TUESDAYS\n4:00 PM to 8:00 PM \nMARGARITA NIGHT\n$1 off our fabulous made from scratch margaritas!
URL:https://barknbrewwi.com/event/margarita-night-4/
CATEGORIES:Daily Drink Specials
ATTACH;FMTTYPE=image/jpeg:https://barknbrewwi.com/wp-content/uploads/2020/04/DSC_0035-scaled.jpg
END:VEVENT
BEGIN:VEVENT
DTSTART;TZID=America/Chicago:20200903T150000
DTEND;TZID=America/Chicago:20200903T210000
DTSTAMP:20260420T134829
CREATED:20200818T195925Z
LAST-MODIFIED:20210608T135010Z
UID:4593-1599145200-1599166800@barknbrewwi.com
SUMMARY:Thirsty Thursday
DESCRIPTION:THURSDAYS\n2:00 PM to 9:00 PM \nThursday Night Special:  $1 off pints of draft beer!  6 on tap – check them out on Thursdays!
URL:https://barknbrewwi.com/event/thirsty-thursday-2-2020-09-03/
CATEGORIES:Daily Drink Specials
ATTACH;FMTTYPE=image/jpeg:https://barknbrewwi.com/wp-content/uploads/2020/04/pug-beer-scaled.jpg
END:VEVENT
BEGIN:VEVENT
DTSTART;TZID=America/Chicago:20200903T080000
DTEND;TZID=America/Chicago:20200903T170000
DTSTAMP:20260420T134829
CREATED:20200818T200049Z
LAST-MODIFIED:20200818T200049Z
UID:4052-1599120000-1599152400@barknbrewwi.com
SUMMARY:Thirsty Thursday
DESCRIPTION:THURSDAYS\n2:00 PM to 9:00 PM \nTHIRSTY THURSDAYS\nEnjoy $1 off all draft beer!
URL:https://barknbrewwi.com/event/thirsty-thursday-3/
CATEGORIES:Daily Drink Specials
ATTACH;FMTTYPE=image/jpeg:https://barknbrewwi.com/wp-content/uploads/2020/04/pug-beer-scaled.jpg
END:VEVENT
BEGIN:VEVENT
DTSTART;TZID=America/Chicago:20200902T160000
DTEND;TZID=America/Chicago:20200902T200000
DTSTAMP:20260420T134829
CREATED:20200818T200450Z
LAST-MODIFIED:20210608T135106Z
UID:4400-1599062400-1599076800@barknbrewwi.com
SUMMARY:Mid Week Mule Extravaganza
DESCRIPTION:WEDNESDAYS\n4:00 PM to 8:00 PM \nWednesday Night Special:  $1 off – Mid-Week Mule Extravaganza!  Try one of our ever changing\, made from scratch with our house blend mixes Moscow mules – they will not disappoint!
URL:https://barknbrewwi.com/event/mid-week-mule-extravaganza-2-2020-09-02/
CATEGORIES:Daily Drink Specials
ATTACH;FMTTYPE=image/jpeg:https://barknbrewwi.com/wp-content/uploads/2020/04/mule.jpg
END:VEVENT
BEGIN:VEVENT
DTSTART;TZID=America/Chicago:20200901T160000
DTEND;TZID=America/Chicago:20200901T200000
DTSTAMP:20260420T134829
CREATED:20200818T194941Z
LAST-MODIFIED:20200818T195049Z
UID:4044-1598976000-1598990400@barknbrewwi.com
SUMMARY:Margarita Night
DESCRIPTION:TUESDAYS\n4:00 PM to 8:00 PM \nMARGARITA NIGHT\n$1 off our fabulous made from scratch margaritas!
URL:https://barknbrewwi.com/event/margarita-night-3/
CATEGORIES:Daily Drink Specials
ATTACH;FMTTYPE=image/jpeg:https://barknbrewwi.com/wp-content/uploads/2020/04/DSC_0035-scaled.jpg
END:VEVENT
BEGIN:VEVENT
DTSTART;TZID=America/Chicago:20200827T150000
DTEND;TZID=America/Chicago:20200827T210000
DTSTAMP:20260420T134829
CREATED:20200818T195925Z
LAST-MODIFIED:20210608T135004Z
UID:4050-1598540400-1598562000@barknbrewwi.com
SUMMARY:Thirsty Thursday
DESCRIPTION:THURSDAYS\n2:00 PM to 9:00 PM \nThursday Night Special:  $1 off pints of draft beer!  6 on tap – check them out on Thursdays!
URL:https://barknbrewwi.com/event/thirsty-thursday-2/
CATEGORIES:Daily Drink Specials
ATTACH;FMTTYPE=image/jpeg:https://barknbrewwi.com/wp-content/uploads/2020/04/pug-beer-scaled.jpg
END:VEVENT
BEGIN:VEVENT
DTSTART;TZID=America/Chicago:20200826T160000
DTEND;TZID=America/Chicago:20200826T200000
DTSTAMP:20260420T134829
CREATED:20200818T200450Z
LAST-MODIFIED:20210608T135100Z
UID:4056-1598457600-1598472000@barknbrewwi.com
SUMMARY:Mid Week Mule Extravaganza
DESCRIPTION:WEDNESDAYS\n4:00 PM to 8:00 PM \nWednesday Night Special:  $1 off – Mid-Week Mule Extravaganza!  Try one of our ever changing\, made from scratch with our house blend mixes Moscow mules – they will not disappoint!
URL:https://barknbrewwi.com/event/mid-week-mule-extravaganza-2/
CATEGORIES:Daily Drink Specials
ATTACH;FMTTYPE=image/jpeg:https://barknbrewwi.com/wp-content/uploads/2020/04/mule.jpg
END:VEVENT
BEGIN:VEVENT
DTSTART;TZID=America/Chicago:20200825T160000
DTEND;TZID=America/Chicago:20200825T200000
DTSTAMP:20260420T134829
CREATED:20200818T193914Z
LAST-MODIFIED:20200818T194404Z
UID:4042-1598371200-1598385600@barknbrewwi.com
SUMMARY:Margarita Night
DESCRIPTION:TUESDAYS\n4:00 PM to 8:00 PM \nMARGARITA NIGHT\n$1 off our fabulous made from scratch margaritas!
URL:https://barknbrewwi.com/event/margarita-night-2/
CATEGORIES:Daily Drink Specials
END:VEVENT
BEGIN:VEVENT
DTSTART;TZID=America/Chicago:20200822T130000
DTEND;TZID=America/Chicago:20200822T180000
DTSTAMP:20260420T134829
CREATED:20200813T160554Z
LAST-MODIFIED:20200818T194649Z
UID:3654-1598101200-1598119200@barknbrewwi.com
SUMMARY:Bark & Brew Boxer Bazaar!
DESCRIPTION:Saturday August 22nd 1:00pm to 6:00pm \nRaffle’s\, Silent Auction\, Food Trucks\, Vendors\, Dog Friendly Bar! \nProceeds will go to green Acres Boxer Rescue to help them continue to rescue and provide vet care for some amazing dogs!
URL:https://barknbrewwi.com/event/bark-brew-boxer-bazaar/
CATEGORIES:Community Events,Fundraisers
ATTACH;FMTTYPE=image/jpeg:https://barknbrewwi.com/wp-content/uploads/2020/08/bnb-boxer.jpg
END:VEVENT
BEGIN:VEVENT
DTSTART;TZID=America/Chicago:20200820T140000
DTEND;TZID=America/Chicago:20200820T210000
DTSTAMP:20260420T134830
CREATED:20200818T195359Z
LAST-MODIFIED:20200818T195442Z
UID:4048-1597932000-1597957200@barknbrewwi.com
SUMMARY:Thirsty Thursday
DESCRIPTION:THURSDAYS\n2:00 PM to 9:00 PM \nTHIRSTY THURSDAY\nEnjoy $1 off all draft beer!
URL:https://barknbrewwi.com/event/thirsty-thursday/
CATEGORIES:Daily Drink Specials
ATTACH;FMTTYPE=image/jpeg:https://barknbrewwi.com/wp-content/uploads/2020/04/pug-beer-scaled.jpg
END:VEVENT
BEGIN:VEVENT
DTSTART;TZID=America/Chicago:20200819T160000
DTEND;TZID=America/Chicago:20200819T200000
DTSTAMP:20260420T134830
CREATED:20200818T200328Z
LAST-MODIFIED:20200818T200328Z
UID:4054-1597852800-1597867200@barknbrewwi.com
SUMMARY:Mid Week Mule Extravaganza
DESCRIPTION:WEDNESDAYS\n4:00 PM to 8:00 PM \nMID WEEK MULE EXTRAVAGANZA\n$1 off our most popular mules: Blueberry/Lemon\, Georgia Peach\, Texas\, Kentucky and Chai! Our mules are pretty amazing…give them a try!!
URL:https://barknbrewwi.com/event/mid-week-mule-extravaganza/
CATEGORIES:Daily Drink Specials
ATTACH;FMTTYPE=image/jpeg:https://barknbrewwi.com/wp-content/uploads/2020/04/mule.jpg
END:VEVENT
BEGIN:VEVENT
DTSTART;TZID=America/Chicago:20200818T160000
DTEND;TZID=America/Chicago:20200818T200000
DTSTAMP:20260420T134830
CREATED:20200818T193745Z
LAST-MODIFIED:20200818T194446Z
UID:4040-1597766400-1597780800@barknbrewwi.com
SUMMARY:Margarita Night
DESCRIPTION:TUESDAYS\n4:00 PM to 8:00 PM \nMARGARITA NIGHT\n$1 off our fabulous made from scratch margaritas!
URL:https://barknbrewwi.com/event/margarita-night/
CATEGORIES:Daily Drink Specials
ATTACH;FMTTYPE=image/jpeg:https://barknbrewwi.com/wp-content/uploads/2020/04/DSC_0035-scaled.jpg
END:VEVENT
BEGIN:VEVENT
DTSTART;TZID=America/Chicago:20200501T070000
DTEND;TZID=America/Chicago:20200501T180000
DTSTAMP:20260420T134830
CREATED:20200419T202245Z
LAST-MODIFIED:20200818T194454Z
UID:2774-1588316400-1588356000@barknbrewwi.com
SUMMARY:Play N' Learn Drop In Day
DESCRIPTION:Bring your pup for a day of fun and learning with their doggy friends and the Bark staff. They will leave very happy and very tired!
URL:https://barknbrewwi.com/event/play-n-learn-drop-in-day-14/
LOCATION:Bark & Brew\, 2514 Glendale Ave\, Green Bay\, WI\, 54313\, United States
CATEGORIES:Education
ATTACH;FMTTYPE=image/jpeg:https://barknbrewwi.com/wp-content/uploads/2020/04/93621377_930063937443794_6538268352953974784_n.jpg
ORGANIZER;CN="Bark & Brew":MAILTO:tara@barknbrewwi.com
END:VEVENT
BEGIN:VEVENT
DTSTART;TZID=America/Chicago:20200429T070000
DTEND;TZID=America/Chicago:20200429T180000
DTSTAMP:20260420T134830
CREATED:20200419T202402Z
LAST-MODIFIED:20200818T194603Z
UID:2776-1588143600-1588183200@barknbrewwi.com
SUMMARY:Play N' Learn Drop In Day
DESCRIPTION:Bring your pup for a day of fun and learning with their doggy friends and the Bark staff. They will leave very happy and very tired!
URL:https://barknbrewwi.com/event/play-n-learn-drop-in-day-15/
LOCATION:Bark & Brew\, 2514 Glendale Ave\, Green Bay\, WI\, 54313\, United States
CATEGORIES:Education
ATTACH;FMTTYPE=image/jpeg:https://barknbrewwi.com/wp-content/uploads/2020/04/93621377_930063937443794_6538268352953974784_n.jpg
ORGANIZER;CN="Bark & Brew":MAILTO:tara@barknbrewwi.com
END:VEVENT
BEGIN:VEVENT
DTSTART;TZID=America/Chicago:20200424T070000
DTEND;TZID=America/Chicago:20200424T180000
DTSTAMP:20260420T134830
CREATED:20200419T142112Z
LAST-MODIFIED:20200818T194515Z
UID:2768-1587711600-1587751200@barknbrewwi.com
SUMMARY:Play N' Learn Drop In Day
DESCRIPTION:Bring your pups for a day of fun\, learning and time with friends.  Ticket link below.  We will meet you out front at drop off and pick up time\, no humans inside Bark please.
URL:https://barknbrewwi.com/event/play-n-learn-drop-in-day-12/
CATEGORIES:Education
ATTACH;FMTTYPE=image/jpeg:https://barknbrewwi.com/wp-content/uploads/2020/04/93621377_930063937443794_6538268352953974784_n.jpg
END:VEVENT
BEGIN:VEVENT
DTSTART;TZID=America/Chicago:20200422T070000
DTEND;TZID=America/Chicago:20200422T180000
DTSTAMP:20260420T134830
CREATED:20200419T142014Z
LAST-MODIFIED:20200818T194634Z
UID:2766-1587538800-1587578400@barknbrewwi.com
SUMMARY:Play N' Learn Drop In Day
DESCRIPTION:Bring your pups for a day of fun\, learning and time with friends.  Ticket link below.  We will meet you out front at drop off and pick up time\, no humans inside Bark please.
URL:https://barknbrewwi.com/event/play-n-learn-drop-in-day-11/
CATEGORIES:Education
ATTACH;FMTTYPE=image/jpeg:https://barknbrewwi.com/wp-content/uploads/2020/04/93621377_930063937443794_6538268352953974784_n.jpg
END:VEVENT
BEGIN:VEVENT
DTSTART;TZID=America/Chicago:20200420T070000
DTEND;TZID=America/Chicago:20200420T180000
DTSTAMP:20260420T134830
CREATED:20200419T202112Z
LAST-MODIFIED:20200818T194700Z
UID:2772-1587366000-1587405600@barknbrewwi.com
SUMMARY:Play N' Learn Drop In Day
DESCRIPTION:Bring your pup for a day of fun and learning with their doggy friends and the Bark staff.  They will leave very happy and very tired!
URL:https://barknbrewwi.com/event/play-n-learn-drop-in-day-13/
LOCATION:Bark & Brew\, 2514 Glendale Ave\, Green Bay\, WI\, 54313\, United States
CATEGORIES:Education
ORGANIZER;CN="Bark & Brew":MAILTO:tara@barknbrewwi.com
END:VEVENT
BEGIN:VEVENT
DTSTART;TZID=America/Chicago:20200420T070000
DTEND;TZID=America/Chicago:20200420T180000
DTSTAMP:20260420T134830
CREATED:20200419T141926Z
LAST-MODIFIED:20200818T194713Z
UID:2764-1587366000-1587405600@barknbrewwi.com
SUMMARY:Play N' Learn Drop In Day
DESCRIPTION:Bring your pups for a day of fun\, learning and time with friends.  Ticket link below.  We will meet you out front at drop off and pick up time\, no humans inside Bark please.
URL:https://barknbrewwi.com/event/play-n-learn-drop-in-day-10/
CATEGORIES:Education
ATTACH;FMTTYPE=image/jpeg:https://barknbrewwi.com/wp-content/uploads/2020/04/93621377_930063937443794_6538268352953974784_n.jpg
END:VEVENT
BEGIN:VEVENT
DTSTART;TZID=America/Chicago:20200417T070000
DTEND;TZID=America/Chicago:20200417T180000
DTSTAMP:20260420T134830
CREATED:20200413T121810Z
LAST-MODIFIED:20200818T194720Z
UID:2619-1587106800-1587146400@barknbrewwi.com
SUMMARY:Play N' Learn Drop In Day
DESCRIPTION:Bring your pups for a day of fun\, learning and time with friends.  Ticket link below.  We will meet you out front at drop off and pick up time\, no humans inside Bark please.
URL:https://barknbrewwi.com/event/play-n-learn-drop-in-day-9/
LOCATION:Bark & Brew\, 2514 Glendale Ave\, Green Bay\, WI\, 54313\, United States
CATEGORIES:Education
ATTACH;FMTTYPE=image/jpeg:https://barknbrewwi.com/wp-content/uploads/2020/04/93621377_930063937443794_6538268352953974784_n.jpg
END:VEVENT
BEGIN:VEVENT
DTSTART;TZID=America/Chicago:20200415T070000
DTEND;TZID=America/Chicago:20200415T180000
DTSTAMP:20260420T134830
CREATED:20200413T121550Z
LAST-MODIFIED:20200818T194729Z
UID:2617-1586934000-1586973600@barknbrewwi.com
SUMMARY:Play N' Learn Drop In Day
DESCRIPTION:Bring your pups for a day of fun\, learning and time with their friends!!  Link below.  We will meet you out front at drop off and pick up\, no humans inside Bark please.
URL:https://barknbrewwi.com/event/play-n-learn-drop-in-day-8/
LOCATION:Bark & Brew\, 2514 Glendale Ave\, Green Bay\, WI\, 54313\, United States
CATEGORIES:Education
ATTACH;FMTTYPE=image/jpeg:https://barknbrewwi.com/wp-content/uploads/2020/04/93621377_930063937443794_6538268352953974784_n.jpg
ORGANIZER;CN="Bark & Brew":MAILTO:tara@barknbrewwi.com
END:VEVENT
BEGIN:VEVENT
DTSTART;TZID=America/Chicago:20200406T070000
DTEND;TZID=America/Chicago:20200406T180000
DTSTAMP:20260420T134830
CREATED:20200405T140911Z
LAST-MODIFIED:20200818T194740Z
UID:1813-1586156400-1586196000@barknbrewwi.com
SUMMARY:Play N' Learn Drop In Day
DESCRIPTION:Bring the pups to burn some energy and have fun with friends!
URL:https://barknbrewwi.com/event/play-n-learn-drop-in-day-7/
LOCATION:Bark & Brew\, 2514 Glendale Ave\, Green Bay\, WI\, 54313\, United States
CATEGORIES:Education
ORGANIZER;CN="Bark & Brew":MAILTO:tara@barknbrewwi.com
END:VEVENT
BEGIN:VEVENT
DTSTART;TZID=America/Chicago:20200403T070000
DTEND;TZID=America/Chicago:20200403T180000
DTSTAMP:20260420T134830
CREATED:20200331T174506Z
LAST-MODIFIED:20200818T194749Z
UID:1700-1585897200-1585936800@barknbrewwi.com
SUMMARY:Play N' Learn Drop In Day
DESCRIPTION:Join us for a Play N’ Learn day full of fun with friends\, socialization and one on one time with Bark & Brew staff. \nCome anytime between 7am – 6pm\, we will meet you out front to bring them in and bring them back out when you arrive to avoid people being inside Bark & Brew.   Just give us a call when you are headed back and we will get them ready for you! \nSend their lunch\, we do feed separately to avoid any issues. \nWe all have a great time! Link to sign up is below.
URL:https://barknbrewwi.com/event/play-n-learn-drop-in-day-6/
LOCATION:...
CATEGORIES:Education
ORGANIZER;CN="Bark & Brew":MAILTO:tara@barknbrewwi.com
END:VEVENT
BEGIN:VEVENT
DTSTART;TZID=America/Chicago:20200401T070000
DTEND;TZID=America/Chicago:20200401T180000
DTSTAMP:20260420T134830
CREATED:20200331T174336Z
LAST-MODIFIED:20200818T194804Z
UID:1698-1585724400-1585764000@barknbrewwi.com
SUMMARY:Play N' Learn Drop In Day
DESCRIPTION:Join us for a Play N’ Learn day full of fun with friends\, socialization and one on one time with Bark & Brew staff. \nCome anytime between 7am – 6pm\, we will meet you out front to bring them in and bring them back out when you arrive to avoid people being inside Bark & Brew.    Just give us a call when you are headed back and we will get them ready for you! \nSend their lunch\, we do feed separately to avoid any issues. \nWe all have a great time!   Link to sign up is below.
URL:https://barknbrewwi.com/event/play-n-learn-drop-in-day-5/
LOCATION:Bark & Brew\, 2514 Glendale Ave\, Green Bay\, WI\, 54313\, United States
CATEGORIES:Education
END:VEVENT
BEGIN:VEVENT
DTSTART;TZID=America/Chicago:20200327T070000
DTEND;TZID=America/Chicago:20200327T180000
DTSTAMP:20260420T134830
CREATED:20200320T183943Z
LAST-MODIFIED:20200818T194811Z
UID:1454-1585292400-1585332000@barknbrewwi.com
SUMMARY:Play N' Learn Drop In Day
DESCRIPTION:The structured yet fun play day allows them full access of Bark & Brew\, both inside and out\, one on one time with Bark staff to work on techniques such as impulse control\, interaction with other dogs\, etc. and is a great way to get them out of the house and burn off some energy.
URL:https://barknbrewwi.com/event/play-n-learn-drop-in-day-4/
LOCATION:Bark & Brew\, 2514 Glendale Ave\, Green Bay\, WI\, 54313\, United States
CATEGORIES:Education
END:VEVENT
BEGIN:VEVENT
DTSTART;TZID=America/Chicago:20200325T070000
DTEND;TZID=America/Chicago:20200325T180000
DTSTAMP:20260420T134830
CREATED:20200320T183748Z
LAST-MODIFIED:20200818T194819Z
UID:1452-1585119600-1585159200@barknbrewwi.com
SUMMARY:Play N' Learn Drop In Day
DESCRIPTION:The structured yet fun play day allows them full access of Bark & Brew\, both inside and out\, one on one time with the Bark staff to work on techniques such as impulse control\, interaction with other dogs\, etc. and is a great way to get them out of the house and burn off some energy!
URL:https://barknbrewwi.com/event/play-n-learn-drop-in-day-3/
LOCATION:...
CATEGORIES:Education
END:VEVENT
BEGIN:VEVENT
DTSTART;TZID=America/Chicago:20200323T070000
DTEND;TZID=America/Chicago:20200323T180000
DTSTAMP:20260420T134830
CREATED:20200320T182448Z
LAST-MODIFIED:20200818T194828Z
UID:1450-1584946800-1584986400@barknbrewwi.com
SUMMARY:Play N' Learn Drop In Day
DESCRIPTION:The structured yet fun play day allows them full access of Bark & Brew\, both inside and out\, one on one time with Bark staff to work on techniques such as impulse control\, interaction with other dogs\, etc. and is a great way to get them out of the house and burn off some energy.
URL:https://barknbrewwi.com/event/play-n-learn-drop-in-day-2/
LOCATION:...
CATEGORIES:Education
END:VEVENT
BEGIN:VEVENT
DTSTART;TZID=America/Chicago:20200317T050000
DTEND;TZID=America/Chicago:20200317T160000
DTSTAMP:20260420T134830
CREATED:20200123T223642Z
LAST-MODIFIED:20200818T194542Z
UID:300-1584421200-1584460800@barknbrewwi.com
SUMMARY:St. Patrick’s Day Party
DESCRIPTION:Come enjoy our signature Orea Mint-Tini! \n 
URL:https://barknbrewwi.com/event/st-patricks-day-party/
CATEGORIES:Community Events
ATTACH;FMTTYPE=image/jpeg:https://barknbrewwi.com/wp-content/uploads/2020/01/st-patricks-day.jpg
END:VEVENT
END:VCALENDAR