BEGIN:VCALENDAR
VERSION:2.0
PRODID:-//Bark &amp; Brew - ECPv6.15.20//NONSGML v1.0//EN
CALSCALE:GREGORIAN
METHOD:PUBLISH
X-ORIGINAL-URL:https://barknbrewwi.com
X-WR-CALDESC:Events for Bark &amp; Brew
REFRESH-INTERVAL;VALUE=DURATION:PT1H
X-Robots-Tag:noindex
X-PUBLISHED-TTL:PT1H
BEGIN:VTIMEZONE
TZID:America/Chicago
BEGIN:DAYLIGHT
TZOFFSETFROM:-0600
TZOFFSETTO:-0500
TZNAME:CDT
DTSTART:20230312T080000
END:DAYLIGHT
BEGIN:STANDARD
TZOFFSETFROM:-0500
TZOFFSETTO:-0600
TZNAME:CST
DTSTART:20231105T070000
END:STANDARD
BEGIN:DAYLIGHT
TZOFFSETFROM:-0600
TZOFFSETTO:-0500
TZNAME:CDT
DTSTART:20240310T080000
END:DAYLIGHT
BEGIN:STANDARD
TZOFFSETFROM:-0500
TZOFFSETTO:-0600
TZNAME:CST
DTSTART:20241103T070000
END:STANDARD
BEGIN:DAYLIGHT
TZOFFSETFROM:-0600
TZOFFSETTO:-0500
TZNAME:CDT
DTSTART:20250309T080000
END:DAYLIGHT
BEGIN:STANDARD
TZOFFSETFROM:-0500
TZOFFSETTO:-0600
TZNAME:CST
DTSTART:20251102T070000
END:STANDARD
END:VTIMEZONE
BEGIN:VEVENT
DTSTART;TZID=America/Chicago:20240210T160000
DTEND;TZID=America/Chicago:20240210T190000
DTSTAMP:20260423T084438
CREATED:20240206T113905Z
LAST-MODIFIED:20240206T113905Z
UID:5040-1707580800-1707591600@barknbrewwi.com
SUMMARY:The Wandering Table Food Truck
DESCRIPTION:Dogs\, Drinks & Dinner!
URL:https://barknbrewwi.com/event/the-wandering-table-food-truck-3/
LOCATION:Bark & Brew\, 2514 Glendale Ave\, Green Bay\, WI\, 54313\, United States
ORGANIZER;CN="Bark & Brew":MAILTO:tara@barknbrewwi.com
END:VEVENT
BEGIN:VEVENT
DTSTART;TZID=America/Chicago:20240212T160000
DTEND;TZID=America/Chicago:20240212T220000
DTSTAMP:20260423T084438
CREATED:20240206T113305Z
LAST-MODIFIED:20240206T113305Z
UID:5038-1707753600-1707775200@barknbrewwi.com
SUMMARY:Hot Digity Dog - Rescue Event
DESCRIPTION:The Hope Hwy will be at Bark & Brew on Monday\, February 12th\, doors opening at 4pm. \nHot dog bar\, great drinks\, 50/50\, dogs & more!
URL:https://barknbrewwi.com/event/hot-digity-dog-rescue-event/
LOCATION:Bark & Brew\, 2514 Glendale Ave\, Green Bay\, WI\, 54313\, United States
ORGANIZER;CN="Bark & Brew":MAILTO:tara@barknbrewwi.com
END:VEVENT
BEGIN:VEVENT
DTSTART;TZID=America/Chicago:20240218T110000
DTEND;TZID=America/Chicago:20240218T160000
DTSTAMP:20260423T084438
CREATED:20240206T151514Z
LAST-MODIFIED:20240206T151514Z
UID:5044-1708254000-1708272000@barknbrewwi.com
SUMMARY:Buds & Suds Grooming
DESCRIPTION:Enjoy some drinks and get the pup groomed!
URL:https://barknbrewwi.com/event/buds-suds-grooming-2/
LOCATION:Bark & Brew\, 2514 Glendale Ave\, Green Bay\, WI\, 54313\, United States
ORGANIZER;CN="Bark & Brew":MAILTO:tara@barknbrewwi.com
END:VEVENT
BEGIN:VEVENT
DTSTART;TZID=America/Chicago:20240218T110000
DTEND;TZID=America/Chicago:20240218T160000
DTSTAMP:20260423T084438
CREATED:20240206T151624Z
LAST-MODIFIED:20240206T151624Z
UID:5046-1708254000-1708272000@barknbrewwi.com
SUMMARY:The Wandering Table Food Truck
DESCRIPTION:Awesome Dogs\, Amazing Drinks & Delicious Food!
URL:https://barknbrewwi.com/event/the-wandering-table-food-truck-4/
LOCATION:Bark & Brew\, 2514 Glendale Ave\, Green Bay\, WI\, 54313\, United States
ORGANIZER;CN="Bark & Brew":MAILTO:tara@barknbrewwi.com
END:VEVENT
BEGIN:VEVENT
DTSTART;TZID=America/Chicago:20240219T160000
DTEND;TZID=America/Chicago:20240219T210000
DTSTAMP:20260423T084438
CREATED:20240206T151715Z
LAST-MODIFIED:20240206T151715Z
UID:5048-1708358400-1708376400@barknbrewwi.com
SUMMARY:Small Dog Night
DESCRIPTION:Bring your small dog to play with other small dogs! \n** Small dogs only **
URL:https://barknbrewwi.com/event/small-dog-night-17/
LOCATION:Bark & Brew\, 2514 Glendale Ave\, Green Bay\, WI\, 54313\, United States
ORGANIZER;CN="Bark & Brew":MAILTO:tara@barknbrewwi.com
END:VEVENT
BEGIN:VEVENT
DTSTART;TZID=America/Chicago:20240226T090000
DTEND;TZID=America/Chicago:20240226T100000
DTSTAMP:20260423T084438
CREATED:20240206T114129Z
LAST-MODIFIED:20240206T114129Z
UID:5042-1708938000-1708941600@barknbrewwi.com
SUMMARY:Dogs\, Drinks & Yoga
DESCRIPTION:Bring your pup\, your own mat and enjoy an hour-long yoga session!! \nSpace is limited\, ticket link below.
URL:https://barknbrewwi.com/event/dogs-drinks-yoga-2/
LOCATION:Bark & Brew\, 2514 Glendale Ave\, Green Bay\, WI\, 54313\, United States
ORGANIZER;CN="Bark & Brew":MAILTO:tara@barknbrewwi.com
END:VEVENT
BEGIN:VEVENT
DTSTART;TZID=America/Chicago:20240226T170000
DTEND;TZID=America/Chicago:20240226T200000
DTSTAMP:20260423T084438
CREATED:20240206T151956Z
LAST-MODIFIED:20240206T151956Z
UID:5052-1708966800-1708977600@barknbrewwi.com
SUMMARY:The Wandering Table Food Truck
DESCRIPTION:Dogs\, Drinks\, Dinner & Trivia!!
URL:https://barknbrewwi.com/event/the-wandering-table-food-truck-5/
LOCATION:Bark & Brew\, 2514 Glendale Ave\, Green Bay\, WI\, 54313\, United States
ORGANIZER;CN="Bark & Brew":MAILTO:tara@barknbrewwi.com
END:VEVENT
BEGIN:VEVENT
DTSTART;TZID=America/Chicago:20240226T180000
DTEND;TZID=America/Chicago:20240226T220000
DTSTAMP:20260423T084438
CREATED:20240206T151909Z
LAST-MODIFIED:20240206T151909Z
UID:5050-1708970400-1708984800@barknbrewwi.com
SUMMARY:Trivia Night
DESCRIPTION:Register by 6pm\, trivia starts at 6:30pm! \nTeams of 6 or less. \nAND\, The Wandering Table Food Truck will be onsite from 5-8pm.
URL:https://barknbrewwi.com/event/trivia-night-3/
LOCATION:Bark & Brew\, 2514 Glendale Ave\, Green Bay\, WI\, 54313\, United States
ORGANIZER;CN="Bark & Brew":MAILTO:tara@barknbrewwi.com
END:VEVENT
END:VCALENDAR