BEGIN:VCALENDAR
VERSION:2.0
PRODID:-//Bark &amp; Brew - ECPv6.15.20//NONSGML v1.0//EN
CALSCALE:GREGORIAN
METHOD:PUBLISH
X-ORIGINAL-URL:https://barknbrewwi.com
X-WR-CALDESC:Events for Bark &amp; Brew
REFRESH-INTERVAL;VALUE=DURATION:PT1H
X-Robots-Tag:noindex
X-PUBLISHED-TTL:PT1H
BEGIN:VTIMEZONE
TZID:America/Chicago
BEGIN:DAYLIGHT
TZOFFSETFROM:-0600
TZOFFSETTO:-0500
TZNAME:CDT
DTSTART:20240310T080000
END:DAYLIGHT
BEGIN:STANDARD
TZOFFSETFROM:-0500
TZOFFSETTO:-0600
TZNAME:CST
DTSTART:20241103T070000
END:STANDARD
BEGIN:DAYLIGHT
TZOFFSETFROM:-0600
TZOFFSETTO:-0500
TZNAME:CDT
DTSTART:20250309T080000
END:DAYLIGHT
BEGIN:STANDARD
TZOFFSETFROM:-0500
TZOFFSETTO:-0600
TZNAME:CST
DTSTART:20251102T070000
END:STANDARD
BEGIN:DAYLIGHT
TZOFFSETFROM:-0600
TZOFFSETTO:-0500
TZNAME:CDT
DTSTART:20260308T080000
END:DAYLIGHT
BEGIN:STANDARD
TZOFFSETFROM:-0500
TZOFFSETTO:-0600
TZNAME:CST
DTSTART:20261101T070000
END:STANDARD
END:VTIMEZONE
BEGIN:VEVENT
DTSTART;TZID=America/Chicago:20250612T160000
DTEND;TZID=America/Chicago:20250612T193000
DTSTAMP:20260421T124152
CREATED:20250610T121022Z
LAST-MODIFIED:20250610T121022Z
UID:5368-1749744000-1749756600@barknbrewwi.com
SUMMARY:Polished Paws Pet Grooming
DESCRIPTION:Tidy the pup and have some drinks!
URL:https://barknbrewwi.com/event/polished-paws-pet-grooming-10/
LOCATION:Bark & Brew\, 2514 Glendale Ave\, Green Bay\, WI\, 54313\, United States
ORGANIZER;CN="Bark & Brew":MAILTO:tara@barknbrewwi.com
END:VEVENT
BEGIN:VEVENT
DTSTART;TZID=America/Chicago:20250623T070000
DTEND;TZID=America/Chicago:20250623T180000
DTSTAMP:20260421T124152
CREATED:20250610T121220Z
LAST-MODIFIED:20250610T121220Z
UID:5370-1750662000-1750701600@barknbrewwi.com
SUMMARY:Doggy Daycare: Play N' Learn
DESCRIPTION:Join us for a day of fun!  $25/pup.  Open to all friendly fully vaccinated dogs.  Full supervision\, access to indoor and outdoor areas all day.  Email tara@barknbrewwi.com to reserve your spot.
URL:https://barknbrewwi.com/event/doggy-daycare-play-n-learn-2/
LOCATION:Bark & Brew\, 2514 Glendale Ave\, Green Bay\, WI\, 54313\, United States
ORGANIZER;CN="Bark & Brew":MAILTO:tara@barknbrewwi.com
END:VEVENT
BEGIN:VEVENT
DTSTART;TZID=America/Chicago:20250626T160000
DTEND;TZID=America/Chicago:20250626T193000
DTSTAMP:20260421T124152
CREATED:20250610T121307Z
LAST-MODIFIED:20250610T121307Z
UID:5372-1750953600-1750966200@barknbrewwi.com
SUMMARY:Polished Paws Pet Grooming
DESCRIPTION:Tidy the pup and have some drinks!
URL:https://barknbrewwi.com/event/polished-paws-pet-grooming-11/
LOCATION:Bark & Brew\, 2514 Glendale Ave\, Green Bay\, WI\, 54313\, United States
ORGANIZER;CN="Bark & Brew":MAILTO:tara@barknbrewwi.com
END:VEVENT
BEGIN:VEVENT
DTSTART;TZID=America/Chicago:20250630T180000
DTEND;TZID=America/Chicago:20250630T200000
DTSTAMP:20260421T124152
CREATED:20250610T121345Z
LAST-MODIFIED:20250610T121345Z
UID:5374-1751306400-1751313600@barknbrewwi.com
SUMMARY:Trivia Night
DESCRIPTION:Doors open at 4pm\, Trivia starts at 6pm!
URL:https://barknbrewwi.com/event/trivia-night-8/
LOCATION:Bark & Brew\, 2514 Glendale Ave\, Green Bay\, WI\, 54313\, United States
ORGANIZER;CN="Bark & Brew":MAILTO:tara@barknbrewwi.com
END:VEVENT
END:VCALENDAR