BEGIN:VCALENDAR
VERSION:2.0
PRODID:-//Bark &amp; Brew - ECPv6.15.20//NONSGML v1.0//EN
CALSCALE:GREGORIAN
METHOD:PUBLISH
X-ORIGINAL-URL:https://barknbrewwi.com
X-WR-CALDESC:Events for Bark &amp; Brew
REFRESH-INTERVAL;VALUE=DURATION:PT1H
X-Robots-Tag:noindex
X-PUBLISHED-TTL:PT1H
BEGIN:VTIMEZONE
TZID:America/Chicago
BEGIN:DAYLIGHT
TZOFFSETFROM:-0600
TZOFFSETTO:-0500
TZNAME:CDT
DTSTART:20240310T080000
END:DAYLIGHT
BEGIN:STANDARD
TZOFFSETFROM:-0500
TZOFFSETTO:-0600
TZNAME:CST
DTSTART:20241103T070000
END:STANDARD
BEGIN:DAYLIGHT
TZOFFSETFROM:-0600
TZOFFSETTO:-0500
TZNAME:CDT
DTSTART:20250309T080000
END:DAYLIGHT
BEGIN:STANDARD
TZOFFSETFROM:-0500
TZOFFSETTO:-0600
TZNAME:CST
DTSTART:20251102T070000
END:STANDARD
BEGIN:DAYLIGHT
TZOFFSETFROM:-0600
TZOFFSETTO:-0500
TZNAME:CDT
DTSTART:20260308T080000
END:DAYLIGHT
BEGIN:STANDARD
TZOFFSETFROM:-0500
TZOFFSETTO:-0600
TZNAME:CST
DTSTART:20261101T070000
END:STANDARD
END:VTIMEZONE
BEGIN:VEVENT
DTSTART;TZID=America/Chicago:20250714T150000
DTEND;TZID=America/Chicago:20250714T210000
DTSTAMP:20260421T105058
CREATED:20250708T184954Z
LAST-MODIFIED:20250708T184954Z
UID:5380-1752505200-1752526800@barknbrewwi.com
SUMMARY:Small Dog Night
DESCRIPTION:Bring your small dog to play with other small dogs!  ** Small dogs only\, please.
URL:https://barknbrewwi.com/event/small-dog-night-25/
LOCATION:Bark & Brew\, 2514 Glendale Ave\, Green Bay\, WI\, 54313\, United States
ORGANIZER;CN="Bark & Brew":MAILTO:tara@barknbrewwi.com
END:VEVENT
BEGIN:VEVENT
DTSTART;TZID=America/Chicago:20250717T160000
DTEND;TZID=America/Chicago:20250717T193000
DTSTAMP:20260421T105058
CREATED:20250708T185043Z
LAST-MODIFIED:20250708T185043Z
UID:5382-1752768000-1752780600@barknbrewwi.com
SUMMARY:Polished Paws Pet Grooming
DESCRIPTION:Bring your pup to get tidied up and have some drinks!
URL:https://barknbrewwi.com/event/polished-paws-pet-grooming-12/
LOCATION:Bark & Brew\, 2514 Glendale Ave\, Green Bay\, WI\, 54313\, United States
ORGANIZER;CN="Bark & Brew":MAILTO:tara@barknbrewwi.com
END:VEVENT
BEGIN:VEVENT
DTSTART;TZID=America/Chicago:20250719T120000
DTEND;TZID=America/Chicago:20250719T160000
DTSTAMP:20260421T105058
CREATED:20250708T185136Z
LAST-MODIFIED:20250708T185136Z
UID:5384-1752926400-1752940800@barknbrewwi.com
SUMMARY:888 Cheese & Co. Food Truck
DESCRIPTION:Come have some amazing drinks\, delicious food and play with some awesome dogs!
URL:https://barknbrewwi.com/event/888-cheese-co-food-truck-2/
LOCATION:Bark & Brew\, 2514 Glendale Ave\, Green Bay\, WI\, 54313\, United States
ORGANIZER;CN="Bark & Brew":MAILTO:tara@barknbrewwi.com
END:VEVENT
BEGIN:VEVENT
DTSTART;TZID=America/Chicago:20250722T180000
DTEND;TZID=America/Chicago:20250722T200000
DTSTAMP:20260421T105058
CREATED:20250708T190140Z
LAST-MODIFIED:20250708T190140Z
UID:5389-1753207200-1753214400@barknbrewwi.com
SUMMARY:Drag Bingo
DESCRIPTION:Open at 4pm\, Drag Bingo will be begin at 6pm!
URL:https://barknbrewwi.com/event/drag-bingo-3/
LOCATION:Bark & Brew\, 2514 Glendale Ave\, Green Bay\, WI\, 54313\, United States
ORGANIZER;CN="Bark & Brew":MAILTO:tara@barknbrewwi.com
END:VEVENT
END:VCALENDAR