BEGIN:VCALENDAR
VERSION:2.0
PRODID:-//Bark &amp; Brew - ECPv6.15.20//NONSGML v1.0//EN
CALSCALE:GREGORIAN
METHOD:PUBLISH
X-ORIGINAL-URL:https://barknbrewwi.com
X-WR-CALDESC:Events for Bark &amp; Brew
REFRESH-INTERVAL;VALUE=DURATION:PT1H
X-Robots-Tag:noindex
X-PUBLISHED-TTL:PT1H
BEGIN:VTIMEZONE
TZID:America/Chicago
BEGIN:DAYLIGHT
TZOFFSETFROM:-0600
TZOFFSETTO:-0500
TZNAME:CDT
DTSTART:20240310T080000
END:DAYLIGHT
BEGIN:STANDARD
TZOFFSETFROM:-0500
TZOFFSETTO:-0600
TZNAME:CST
DTSTART:20241103T070000
END:STANDARD
BEGIN:DAYLIGHT
TZOFFSETFROM:-0600
TZOFFSETTO:-0500
TZNAME:CDT
DTSTART:20250309T080000
END:DAYLIGHT
BEGIN:STANDARD
TZOFFSETFROM:-0500
TZOFFSETTO:-0600
TZNAME:CST
DTSTART:20251102T070000
END:STANDARD
BEGIN:DAYLIGHT
TZOFFSETFROM:-0600
TZOFFSETTO:-0500
TZNAME:CDT
DTSTART:20260308T080000
END:DAYLIGHT
BEGIN:STANDARD
TZOFFSETFROM:-0500
TZOFFSETTO:-0600
TZNAME:CST
DTSTART:20261101T070000
END:STANDARD
END:VTIMEZONE
BEGIN:VEVENT
DTSTART;TZID=America/Chicago:20250910T160000
DTEND;TZID=America/Chicago:20250910T193000
DTSTAMP:20260421T073939
CREATED:20250910T182908Z
LAST-MODIFIED:20250910T182908Z
UID:5406-1757520000-1757532600@barknbrewwi.com
SUMMARY:Polished Paws Pet Grooming
DESCRIPTION:Tidy the pups and have some drinks!
URL:https://barknbrewwi.com/event/polished-paws-pet-grooming-14/
LOCATION:Bark & Brew\, 2514 Glendale Ave\, Green Bay\, WI\, 54313\, United States
ORGANIZER;CN="Bark & Brew":MAILTO:tara@barknbrewwi.com
END:VEVENT
BEGIN:VEVENT
DTSTART;TZID=America/Chicago:20250911T160000
DTEND;TZID=America/Chicago:20250911T193000
DTSTAMP:20260421T073939
CREATED:20250910T174822Z
LAST-MODIFIED:20250910T174822Z
UID:5396-1757606400-1757619000@barknbrewwi.com
SUMMARY:Polished Paws Pet Grooming
DESCRIPTION:Tidy the pup and have some drinks!
URL:https://barknbrewwi.com/event/polished-paws-pet-grooming-13/
LOCATION:Bark & Brew\, 2514 Glendale Ave\, Green Bay\, WI\, 54313\, United States
ORGANIZER;CN="Bark & Brew":MAILTO:tara@barknbrewwi.com
END:VEVENT
BEGIN:VEVENT
DTSTART;TZID=America/Chicago:20250914T110000
DTEND;TZID=America/Chicago:20250914T150000
DTSTAMP:20260421T073939
CREATED:20250910T182126Z
LAST-MODIFIED:20250910T182126Z
UID:5398-1757847600-1757862000@barknbrewwi.com
SUMMARY:Booyah Sale
DESCRIPTION:Booyah sale for the non-profit youth rugby organziation\, Pulaski Rugby
URL:https://barknbrewwi.com/event/booyah-sale-2/
LOCATION:Bark & Brew\, 2514 Glendale Ave\, Green Bay\, WI\, 54313\, United States
ORGANIZER;CN="Bark & Brew":MAILTO:tara@barknbrewwi.com
END:VEVENT
BEGIN:VEVENT
DTSTART;TZID=America/Chicago:20250915T070000
DTEND;TZID=America/Chicago:20250915T180000
DTSTAMP:20260421T073939
CREATED:20250910T182321Z
LAST-MODIFIED:20250910T182321Z
UID:5400-1757919600-1757959200@barknbrewwi.com
SUMMARY:Doggy Daycare - Play N' Learn
DESCRIPTION:Drop off early as 7am and pick up as late at 6pm! $25  – available to all friendly fully vaccinated dogs! \nMust pre-register by emailing tara@barknbrewwi.com
URL:https://barknbrewwi.com/event/doggy-daycare-play-n-learn-3/
LOCATION:Bark & Brew\, 2514 Glendale Ave\, Green Bay\, WI\, 54313\, United States
ORGANIZER;CN="Bark & Brew":MAILTO:tara@barknbrewwi.com
END:VEVENT
BEGIN:VEVENT
DTSTART;TZID=America/Chicago:20250916T180000
DTEND;TZID=America/Chicago:20250916T200000
DTSTAMP:20260421T073939
CREATED:20250910T182425Z
LAST-MODIFIED:20250910T182426Z
UID:5402-1758045600-1758052800@barknbrewwi.com
SUMMARY:Name That Tune
DESCRIPTION:Name that tune! Teams of 1-5\, free to play! \nDoors open at 3pm
URL:https://barknbrewwi.com/event/name-that-tune/
LOCATION:Bark & Brew\, 2514 Glendale Ave\, Green Bay\, WI\, 54313\, United States
ORGANIZER;CN="Bark & Brew":MAILTO:tara@barknbrewwi.com
END:VEVENT
BEGIN:VEVENT
DTSTART;TZID=America/Chicago:20250922T180000
DTEND;TZID=America/Chicago:20250922T200000
DTSTAMP:20260421T073939
CREATED:20250910T182825Z
LAST-MODIFIED:20250910T182825Z
UID:5404-1758564000-1758571200@barknbrewwi.com
SUMMARY:Trivia
DESCRIPTION:Doors open at 4pm\, trivia starts at 6pm! 1-6 people per team\, free to play!
URL:https://barknbrewwi.com/event/trivia-2/
LOCATION:Bark & Brew\, 2514 Glendale Ave\, Green Bay\, WI\, 54313\, United States
ORGANIZER;CN="Bark & Brew":MAILTO:tara@barknbrewwi.com
END:VEVENT
BEGIN:VEVENT
DTSTART;TZID=America/Chicago:20250929T150000
DTEND;TZID=America/Chicago:20250929T210000
DTSTAMP:20260421T073939
CREATED:20250910T182959Z
LAST-MODIFIED:20250910T182959Z
UID:5408-1759158000-1759179600@barknbrewwi.com
SUMMARY:Small Dog Night
DESCRIPTION:Let your small do play with other small dogs!  ** Small dogs only **
URL:https://barknbrewwi.com/event/small-dog-night-26/
LOCATION:Bark & Brew\, 2514 Glendale Ave\, Green Bay\, WI\, 54313\, United States
ORGANIZER;CN="Bark & Brew":MAILTO:tara@barknbrewwi.com
END:VEVENT
END:VCALENDAR